{"text_format":"1","workbook":"xlsx","n_sheets":5,"sheets":["Instructions","Auction Sheet","Labels","photo beta","Scratch Paper"],"not_rendered":{"charts":0,"images":8,"macros":1,"external_links":0,"defined_names":2,"comments":1,"pivot_tables":0},"unopened":[],"bounds":{"document_bytes":16777216,"sheet_cells":100000,"rows_first":2000,"rows_last":500,"rows_between":2000,"halvings":0,"cell_chars":16384,"cell_head_chars":4096},"cells_cut":0,"cells_raw":0,"read":"whole","date_system":"1900"}

{"sheet":"Instructions","index":0,"n_rows":0,"n_cols":0,"rows_kept":0,"cut":false,"hidden":false,"merged":[]}

{"sheet":"Auction Sheet","index":1,"n_rows":139,"n_cols":11,"rows_kept":139,"cut":false,"hidden":false,"merged":[[136,1,136,3],[138,1,138,3],[130,1,130,4],[131,1,131,4],[133,5,133,7],[134,1,134,3],[135,1,135,3],[125,1,125,4],[126,1,126,4],[127,1,127,4],[128,1,128,4],[129,1,129,4],[120,1,120,4],[121,1,121,4],[122,1,122,4],[123,1,123,4],[124,1,124,4],[115,1,115,4],[116,1,116,4],[117,1,117,4],[118,1,118,4],[119,1,119,4],[110,1,110,4],[111,1,111,4],[112,1,112,4],[113,1,113,4],[114,1,114,4],[27,5,27,7],[106,1,106,4],[107,1,107,4],[108,1,108,4],[109,1,109,4],[61,5,61,7],[62,1,62,3],[63,1,63,3],[64,1,64,3],[99,1,99,3],[66,1,66,3],[94,5,94,7],[95,1,95,3],[85,1,85,4],[86,1,86,4],[96,1,96,3],[97,1,97,3],[81,1,81,4],[82,1,82,4],[83,1,83,4],[84,1,84,4],[91,1,91,4],[92,1,92,4],[88,1,88,4],[87,1,87,4],[77,1,77,4],[89,1,89,4],[90,1,90,4],[76,1,76,4],[79,1,79,4],[80,1,80,4],[75,1,75,4],[74,1,74,4],[73,1,73,4],[72,1,72,4],[71,1,71,4],[70,1,70,4],[69,1,69,4],[68,1,68,4],[59,1,59,4],[58,1,58,4],[57,1,57,4],[56,1,56,4],[42,1,42,4],[41,1,41,4],[55,1,55,4],[54,1,54,4],[53,1,53,4],[52,1,52,4],[51,1,51,4],[67,1,67,4],[25,1,25,4],[39,1,39,4],[38,1,38,4],[37,1,37,4],[36,1,36,4],[43,1,43,4],[35,1,35,4],[40,1,40,4],[47,1,47,4],[46,1,46,4],[45,1,45,4],[44,1,44,4],[50,1,50,4],[49,1,49,4],[48,1,48,4],[14,1,14,4],[34,1,34,4],[13,1,13,4],[12,1,12,4],[11,1,11,4],[32,1,32,3],[24,1,24,4],[23,1,23,4],[29,1,29,3],[30,1,30,3],[28,1,28,3],[22,1,22,4],[21,1,21,4],[20,1,20,4],[19,1,19,4],[2,1,2,4],[1,1,1,4],[0,1,0,4],[78,1,78,4],[6,1,6,4],[5,1,5,4],[4,1,4,4],[3,1,3,4],[10,1,10,4],[9,1,9,4],[18,1,18,4],[17,1,17,4],[16,1,16,4],[15,1,15,4],[8,1,8,4],[7,1,7,4]]}
[" BAG #","DESCRIPTION OF ITEM",null,null,null,"MIN BID (Optional)","BUYER NUMBER","SELLING PRICE","Alternate Text"]
[{"$f":"+IF(ISBLANK(I2),CONCATENATE(B$28,\"-\",TEXT(K2,\"000\")),I2)","v":"-001"},null,null,null,null,null,null,null,null,null,1]
["-002",null,null,null,null,null,null,null,null,null,2]
["-003",null,null,null,null,null,null,null,null,null,3]
["-004",null,null,null,null,null,null,null,null,null,4]
["-005",null,null,null,null,null,null,null,null,null,5]
["-006",null,null,null,null,null,null,null,null,null,6]
["-007",null,null,null,null,null,null,null,null,null,7]
["-008",null,null,null,null,null,null,null,null,null,8]
["-009",null,null,null,null,null,null,null,null,null,9]
["-010",null,null,null,null,null,null,null,null,null,10]
["-011",null,null,null,null,null,null,null,null,null,11]
["-012",null,null,null,null,null,null,null,null,null,12]
["-013",null,null,null,null,null,null,null,null,null,13]
["-014",null,null,null,null,null,null,null,null,null,14]
["-015",null,null,null,null,null,null,null,null,null,15]
["-016",null,null,null,null,null,null,null,null,null,16]
["-017",null,null,null,null,null,null,null,null,null,17]
["-018",null,null,null,null,null,null,null,null,null,18]
["-019",null,null,null,null,null,null,null,null,null,19]
["-020",null,null,null,null,null,null,null,null,null,20]
["-021",null,null,null,null,null,null,null,null,null,21]
["-022",null,null,null,null,null,null,null,null,null,22]
["-023",null,null,null,null,null,null,null,null,null,23]
["-024",null,null,null,null,null,null,null,null,null,24]
["-025",null,null,null,null,null,null,null,null,null,25]
[]
["SELLER #",null,"PHONE:",null,null,"CLUB TREASURER"]
["SELLER NAME",null,null,null,null,"TOTAL"]
["ADDRESS",null,null,null,null,"Worker Bonus"]
["CITY",null,null,null,null,"Minus 30%"]
["State",null,"Zip"]
["E-Mail",null,null,null,null,"DUE SELLER"]
[]
[" BAG #","DESCRIPTION OF ITEM",null,null,null,"MIN BID (Optional)","BUYER NUMBER","SELLING PRICE","Alternate Text"]
[{"$f":"+IF(ISBLANK(I36),CONCATENATE(B$28,\"-\",TEXT(K36,\"000\")),I36)","v":"-026"},null,null,null,null,null,null,null,null,null,{"$f":"+K26+1","v":26}]
["-027",null,null,null,null,null,null,null,null,null,{"$f":"+K36+1","v":27}]
["-028",null,null,null,null,null,null,null,null,null,28]
["-029",null,null,null,null,null,null,null,null,null,29]
["-030",null,null,null,null,null,null,null,null,null,30]
["-031",null,null,null,null,null,null,null,null,null,31]
["-032",null,null,null,null,null,null,null,null,null,32]
["-033",null,null,null,null,null,null,null,null,null,33]
["-034",null,null,null,null,null,null,null,null,null,34]
["-035",null,null,null,null,null,null,null,null,null,35]
["-036",null,null,null,null,null,null,null,null,null,36]
["-037",null,null,null,null,null,null,null,null,null,37]
["-038",null,null,null,null,null,null,null,null,null,38]
["-039",null,null,null,null,null,null,null,null,null,39]
["-040",null,null,null,null,null,null,null,null,null,40]
["-041",null,null,null,null,null,null,null,null,null,41]
["-042",null,null,null,null,null,null,null,null,null,42]
["-043",null,null,null,null,null,null,null,null,null,43]
["-044",null,null,null,null,null,null,null,null,null,44]
["-045",null,null,null,null,null,null,null,null,null,45]
["-046",null,null,null,null,null,null,null,null,null,46]
["-047",null,null,null,null,null,null,null,null,null,47]
["-048",null,null,null,null,null,null,null,null,null,48]
["-049",null,null,null,null,null,null,null,null,null,49]
["-050",null,null,null,null,null,null,null,null,null,50]
[]
["SELLER #",{"$f":"+B$28","v":0},"PHONE:"]
["SELLER NAME",{"$f":"+B$29","v":0}]
["ADDRESS",{"$f":"+B$30","v":0}]
["CITY",{"$f":"+B$31","v":0}]
["State",{"$f":"+B$32","v":0},"Zip",{"$f":"+D$32","v":0}]
["E-Mail",{"$f":"+B$33","v":0}]
[" BAG #","DESCRIPTION OF ITEM",null,null,null,"MIN BID (Optional)","BUYER NUMBER","SELLING PRICE","Alternate Text"]
[{"$f":"+IF(ISBLANK(I69),CONCATENATE(B$28,\"-\",TEXT(K69,\"000\")),I69)","v":"-051"},null,null,null,null,null,null,null,null,null,{"$f":"+K60+1","v":51}]
["-052",null,null,null,null,null,null,null,null,null,{"$f":"+K69+1","v":52}]
["-053",null,null,null,null,null,null,null,null,null,53]
["-054",null,null,null,null,null,null,null,null,null,54]
["-055",null,null,null,null,null,null,null,null,null,55]
["-056",null,null,null,null,null,null,null,null,null,56]
["-057",null,null,null,null,null,null,null,null,null,57]
["-058",null,null,null,null,null,null,null,null,null,58]
["-059",null,null,null,null,null,null,null,null,null,59]
["-060",null,null,null,null,null,null,null,null,null,60]
["-061",null,null,null,null,null,null,null,null,null,61]
["-062",null,null,null,null,null,null,null,null,null,62]
["-063",null,null,null,null,null,null,null,null,null,63]
["-064",null,null,null,null,null,null,null,null,null,64]
["-065",null,null,null,null,null,null,null,null,null,65]
["-066",null,null,null,null,null,null,null,null,null,66]
["-067",null,null,null,null,null,null,null,null,null,67]
["-068",null,null,null,null,null,null,null,null,null,68]
["-069",null,null,null,null,null,null,null,null,null,69]
["-070",null,null,null,null,null,null,null,null,null,70]
["-071",null,null,null,null,null,null,null,null,null,71]
["-072",null,null,null,null,null,null,null,null,null,72]
["-073",null,null,null,null,null,null,null,null,null,73]
["-074",null,null,null,null,null,null,null,null,null,74]
["-075",null,null,null,null,null,null,null,null,null,75]
[]
["SELLER #",{"$f":"+B$28","v":0}]
["SELLER NAME",{"$f":"+B$29","v":0}]
["ADDRESS",{"$f":"+B$30","v":0}]
["CITY",{"$f":"+B$31","v":0}]
["State",{"$f":"+B$32","v":0},"Zip",{"$f":"+D$32","v":0}]
["E-Mail",{"$f":"+B$33","v":0}]
[]
[]
[]
[]
[]
[]
[" BAG #","DESCRIPTION OF ITEM",null,null,null,"MIN BID (Optional)","BUYER NUMBER","SELLING PRICE","Alternate Text"]
[{"$f":"+IF(ISBLANK(I108),CONCATENATE(B$28,\"-\",TEXT(K108,\"000\")),I108)","v":"-076"},null,null,null,null,null,null,null,null,null,{"$f":"K93+1","v":76}]
["-077",null,null,null,null,null,null,null,null,null,{"$f":"+K108+1","v":77}]
["-078",null,null,null,null,null,null,null,null,null,78]
["-079",null,null,null,null,null,null,null,null,null,79]
["-080",null,null,null,null,null,null,null,null,null,80]
["-081",null,null,null,null,null,null,null,null,null,81]
["-082",null,null,null,null,null,null,null,null,null,82]
["-083",null,null,null,null,null,null,null,null,null,83]
["-084",null,null,null,null,null,null,null,null,null,84]
["-085",null,null,null,null,null,null,null,null,null,85]
["-086",null,null,null,null,null,null,null,null,null,86]
["-087",null,null,null,null,null,null,null,null,null,87]
["-088",null,null,null,null,null,null,null,null,null,88]
["-089",null,null,null,null,null,null,null,null,null,89]
["-090",null,null,null,null,null,null,null,null,null,90]
["-091",null,null,null,null,null,null,null,null,null,91]
["-092",null,null,null,null,null,null,null,null,null,92]
["-093",null,null,null,null,null,null,null,null,null,93]
["-094",null,null,null,null,null,null,null,null,null,94]
["-095",null,null,null,null,null,null,null,null,null,95]
["-096",null,null,null,null,null,null,null,null,null,96]
["-097",null,null,null,null,null,null,null,null,null,97]
["-098",null,null,null,null,null,null,null,null,null,98]
["-099",null,null,null,null,null,null,null,null,null,99]
["-100",null,null,null,null,null,null,null,null,null,100]
[]
["SELLER #",{"$f":"+B$28","v":0}]
["SELLER NAME",{"$f":"+B$29","v":0}]
["ADDRESS",{"$f":"+B$30","v":0}]
["CITY",{"$f":"+B$31","v":0}]
["State",{"$f":"+B$32","v":0},"Zip",{"$f":"+D$32","v":0}]
["E-Mail",{"$f":"+B$33","v":0}]

{"sheet":"Labels","index":2,"n_rows":450,"n_cols":6,"rows_kept":450,"cut":false,"hidden":false,"merged":[[0,0,1,0],[0,1,1,1],[0,3,1,3],[12,0,13,0],[12,1,13,1],[12,3,13,3],[0,4,1,4],[2,0,5,1],[2,3,5,4],[3,5,17,5],[6,0,7,0],[6,1,7,1],[6,3,7,3],[6,4,7,4],[10,0,10,1],[10,3,10,4],[12,4,13,4],[14,0,17,1],[14,3,17,4],[18,0,19,0],[18,1,19,1],[18,3,19,3],[18,4,19,4],[19,5,26,5],[22,0,22,1],[22,3,22,4],[24,0,25,0],[24,1,25,1],[24,3,25,3],[24,4,25,4],[26,0,29,1],[26,3,29,4],[30,4,31,4],[34,0,34,1],[34,3,34,4],[36,0,37,0],[36,1,37,1],[36,3,37,3],[36,4,37,4],[30,0,31,0],[30,1,31,1],[30,3,31,3],[38,0,41,1],[38,3,41,4],[42,0,43,0],[42,1,43,1],[42,3,43,3],[42,4,43,4],[46,0,46,1],[46,3,46,4],[48,0,49,0],[48,1,49,1],[48,3,49,3],[48,4,49,4],[50,0,53,1],[50,3,53,4],[54,0,55,0],[54,1,55,1],[54,3,55,3],[54,4,55,4],[58,0,58,1],[58,3,58,4],[59,0,60,0],[59,1,60,1],[59,3,60,3],[59,4,60,4],[61,0,64,1],[61,3,64,4],[65,0,66,0],[65,1,66,1],[65,3,66,3],[65,4,66,4],[69,0,69,1],[69,3,69,4],[71,0,72,0],[71,1,72,1],[71,3,72,3],[71,4,72,4],[73,0,76,1],[73,3,76,4],[77,0,78,0],[77,1,78,1],[77,3,78,3],[77,4,78,4],[81,0,81,1],[81,3,81,4],[83,0,84,0],[83,1,84,1],[83,3,84,3],[83,4,84,4],[85,0,88,1],[85,3,88,4],[89,0,90,0],[89,1,90,1],[89,3,90,3],[89,4,90,4],[93,0,93,1],[93,3,93,4],[95,0,96,0],[95,1,96,1],[95,3,96,3],[95,4,96,4],[97,0,100,1],[97,3,100,4],[101,0,102,0],[101,1,102,1],[101,3,102,3],[101,4,102,4],[105,0,105,1],[105,3,105,4],[107,0,108,0],[107,1,108,1],[107,3,108,3],[107,4,108,4],[109,0,112,1],[109,3,112,4],[113,0,114,0],[113,1,114,1],[113,3,114,3],[113,4,114,4],[117,0,117,1],[117,3,117,4],[118,0,119,0],[118,1,119,1],[118,3,119,3],[118,4,119,4],[120,0,123,1],[120,3,123,4],[124,0,125,0],[124,1,125,1],[124,3,125,3],[124,4,125,4],[128,0,128,1],[128,3,128,4],[130,0,131,0],[130,1,131,1],[130,3,131,3],[130,4,131,4],[132,0,135,1],[132,3,135,4],[136,0,137,0],[136,1,137,1],[136,3,137,3],[136,4,137,4],[140,0,140,1],[140,3,140,4],[142,0,143,0],[142,1,143,1],[142,3,143,3],[142,4,143,4],[144,0,147,1],[144,3,147,4],[148,0,149,0],[148,1,149,1],[148,3,149,3],[148,4,149,4],[152,0,152,1],[152,3,152,4],[154,0,155,0],[154,1,155,1],[154,3,155,3],[154,4,155,4],[156,0,159,1],[156,3,159,4],[160,0,161,0],[160,1,161,1],[160,3,161,3],[160,4,161,4],[164,0,164,1],[164,3,164,4],[166,0,167,0],[166,1,167,1],[166,3,167,3],[166,4,167,4],[168,0,171,1],[168,3,171,4],[172,0,173,0],[172,1,173,1],[172,3,173,3],[172,4,173,4],[176,0,176,1],[176,3,176,4],[177,0,178,0],[177,1,178,1],[177,3,178,3],[177,4,178,4],[179,0,182,1],[179,3,182,4],[183,0,184,0],[183,1,184,1],[183,3,184,3],[183,4,184,4],[187,0,187,1],[187,3,187,4],[189,0,190,0],[189,1,190,1],[189,3,190,3],[189,4,190,4],[191,0,194,1],[191,3,194,4],[195,0,196,0],[195,1,196,1],[195,3,196,3],[195,4,196,4],[199,0,199,1],[199,3,199,4],[201,0,202,0],[201,1,202,1],[201,3,202,3],[201,4,202,4],[203,0,206,1],[203,3,206,4],[207,0,208,0],[207,1,208,1],[207,3,208,3],[207,4,208,4],[211,0,211,1],[211,3,211,4],[213,0,214,0],[213,1,214,1],[213,3,214,3],[213,4,214,4],[215,0,218,1],[215,3,218,4],[219,0,220,0],[219,1,220,1],[219,3,220,3],[219,4,220,4],[223,0,223,1],[223,3,223,4],[225,0,226,0],[225,1,226,1],[225,3,226,3],[225,4,226,4],[227,0,230,1],[227,3,230,4],[231,0,232,0],[231,1,232,1],[231,3,232,3],[231,4,232,4],[235,0,235,1],[235,3,235,4],[236,0,237,0],[236,1,237,1],[236,3,237,3],[236,4,237,4],[238,0,241,1],[238,3,241,4],[242,0,243,0],[242,1,243,1],[242,3,243,3],[242,4,243,4],[246,0,246,1],[246,3,246,4],[248,0,249,0],[248,1,249,1],[248,3,249,3],[248,4,249,4],[250,0,253,1],[250,3,253,4],[254,0,255,0],[254,1,255,1],[254,3,255,3],[254,4,255,4],[258,0,258,1],[258,3,258,4],[260,0,261,0],[260,1,261,1],[260,3,261,3],[260,4,261,4],[262,0,265,1],[262,3,265,4],[266,0,267,0],[266,1,267,1],[266,3,267,3],[266,4,267,4],[270,0,270,1],[270,3,270,4],[272,0,273,0],[272,1,273,1],[272,3,273,3],[272,4,273,4],[274,0,277,1],[274,3,277,4],[278,0,279,0],[278,1,279,1],[278,3,279,3],[278,4,279,4],[282,0,282,1],[282,3,282,4],[284,0,285,0],[284,1,285,1],[284,3,285,3],[284,4,285,4],[286,0,289,1],[286,3,289,4],[290,0,291,0],[290,1,291,1],[290,3,291,3],[290,4,291,4],[294,0,294,1],[294,3,294,4],[295,0,296,0],[295,1,296,1],[295,3,296,3],[295,4,296,4],[297,0,300,1],[297,3,300,4],[301,0,302,0],[301,1,302,1],[301,3,302,3],[301,4,302,4],[305,0,305,1],[305,3,305,4],[307,0,308,0],[307,1,308,1],[307,3,308,3],[307,4,308,4],[309,0,312,1],[309,3,312,4],[313,0,314,0],[313,1,314,1],[313,3,314,3],[313,4,314,4],[317,0,317,1],[317,3,317,4],[319,0,320,0],[319,1,320,1],[319,3,320,3],[319,4,320,4],[321,0,324,1],[321,3,324,4],[325,0,326,0],[325,1,326,1],[325,3,326,3],[325,4,326,4],[329,0,329,1],[329,3,329,4],[331,0,332,0],[331,1,332,1],[331,3,332,3],[331,4,332,4],[333,0,336,1],[333,3,336,4],[337,0,338,0],[337,1,338,1],[337,3,338,3],[337,4,338,4],[341,0,341,1],[341,3,341,4],[343,0,344,0],[343,1,344,1],[343,3,344,3],[343,4,344,4],[345,0,348,1],[345,3,348,4],[349,0,350,0],[349,1,350,1],[349,3,350,3],[349,4,350,4],[353,0,353,1],[353,3,353,4],[354,0,355,0],[354,1,355,1],[354,3,355,3],[354,4,355,4],[356,0,359,1],[356,3,359,4],[360,0,361,0],[360,1,361,1],[360,3,361,3],[360,4,361,4],[364,0,364,1],[364,3,364,4],[366,0,367,0],[366,1,367,1],[366,3,367,3],[366,4,367,4],[368,0,371,1],[368,3,371,4],[372,0,373,0],[372,1,373,1],[372,3,373,3],[372,4,373,4],[376,0,376,1],[376,3,376,4],[378,0,379,0],[378,1,379,1],[378,3,379,3],[378,4,379,4],[380,0,383,1],[380,3,383,4],[384,0,385,0],[384,1,385,1],[384,3,385,3],[384,4,385,4],[388,0,388,1],[388,3,388,4],[390,0,391,0],[390,1,391,1],[390,3,391,3],[390,4,391,4],[389,0,389,1],[392,0,395,1],[392,3,395,4],[396,0,397,0],[396,1,397,1],[396,3,397,3],[396,4,397,4],[400,0,400,1],[400,3,400,4],[402,0,403,0],[402,1,403,1],[402,3,403,3],[402,4,403,4],[404,0,407,1],[404,3,407,4],[408,0,409,0],[408,1,409,1],[408,3,409,3],[408,4,409,4],[412,0,412,1],[412,3,412,4],[413,0,414,0],[413,1,414,1],[413,3,414,3],[413,4,414,4],[415,0,418,1],[415,3,418,4],[419,0,420,0],[419,1,420,1],[419,3,420,3],[419,4,420,4],[423,0,423,1],[423,3,423,4],[425,0,426,0],[425,1,426,1],[425,3,426,3],[425,4,426,4],[427,0,430,1],[427,3,430,4],[431,0,432,0],[431,1,432,1],[431,3,432,3],[431,4,432,4],[435,0,435,1],[435,3,435,4],[437,0,438,0],[437,1,438,1],[437,3,438,3],[437,4,438,4],[446,3,446,4],[447,0,447,1],[447,3,447,4],[439,0,442,1],[439,3,442,4],[443,0,444,0],[443,1,444,1],[443,3,444,3],[443,4,444,4]]}
["BAG#",{"$f":"+'Auction Sheet'!$A2","v":"-001"},null,"BAG#",{"$f":"+'Auction Sheet'!$A3","v":"-002"}]
[]
[{"$f":"+'Auction Sheet'!$B2","v":0},null,null,{"$f":"+'Auction Sheet'!$B3","v":0}]
[null,null,null,null,null,"PRINT ONLY FROM WHITE AREA TO LEFT"]
[]
[]
[{"$f":"IF(ISNUMBER($B7),\"MINIMUM BID\",\"\")","v":""},{"$f":"IF('Auction Sheet'!$F2>0,'Auction Sheet'!$F2,\"\")","v":""},null,{"$f":"IF(ISNUMBER($E7),\"MINIMUM BID\",\"\")","v":""},{"$f":"IF('Auction Sheet'!$F3>0,'Auction Sheet'!$F3,\"\")","v":""}]
[]
["Seller:",null,null,"Seller:"]
[{"$f":"+'Auction Sheet'!$B$29","v":0},{"$f":"+'Auction Sheet'!$B$33","v":0},null,{"$f":"+'Auction Sheet'!$B$29","v":0},{"$f":"+'Auction Sheet'!$B$33","v":0}]
["Visit www.circlecityaqclub.org for all your auction labels!",null,null,"Visit www.circlecityaqclub.org for all your auction labels!"]
[]
["BAG#",{"$f":"+'Auction Sheet'!$A4","v":"-003"},null,"BAG#",{"$f":"+'Auction Sheet'!$A5","v":"-004"}]
[]
[{"$f":"+'Auction Sheet'!$B4","v":0},null,null,{"$f":"+'Auction Sheet'!$B5","v":0}]
[]
[]
[]
[{"$f":"IF(ISNUMBER($B19),\"MINIMUM BID\",\"\")","v":""},{"$f":"IF('Auction Sheet'!$F4>0,'Auction Sheet'!$F4,\"\")","v":""},null,{"$f":"IF(ISNUMBER($E19),\"MINIMUM BID\",\"\")","v":""},{"$f":"IF('Auction Sheet'!$F5>0,'Auction Sheet'!$F5,\"\")","v":""}]
[null,null,null,null,null,"USES AVERY 5163 2x4"]
["Seller:",null,null,"Seller:"]
[{"$f":"+'Auction Sheet'!$B$29","v":0},{"$f":"+'Auction Sheet'!$B$33","v":0},null,{"$f":"+'Auction Sheet'!$B$29","v":0},{"$f":"+'Auction Sheet'!$B$33","v":0}]
["Visit www.circlecityaqclub.org for all your auction labels!",null,null,"Visit www.circlecityaqclub.org for all your auction labels!"]
[]
["BAG#",{"$f":"+'Auction Sheet'!$A6","v":"-005"},null,"BAG#",{"$f":"+'Auction Sheet'!$A7","v":"-006"}]
[]
[{"$f":"+'Auction Sheet'!$B6","v":0},null,null,{"$f":"+'Auction Sheet'!$B7","v":0}]
[]
[]
[]
[{"$f":"IF(ISNUMBER($B31),\"MINIMUM BID\",\"\")","v":""},{"$f":"IF('Auction Sheet'!$F6>0,'Auction Sheet'!$F6,\"\")","v":""},null,{"$f":"IF(ISNUMBER($E31),\"MINIMUM BID\",\"\")","v":""},{"$f":"IF('Auction Sheet'!$F7>0,'Auction Sheet'!$F7,\"\")","v":""}]
[]
["Seller:",null,null,"Seller:"]
[{"$f":"+'Auction Sheet'!$B$29","v":0},{"$f":"+'Auction Sheet'!$B$33","v":0},null,{"$f":"+'Auction Sheet'!$B$29","v":0},{"$f":"+'Auction Sheet'!$B$33","v":0}]
["Visit www.circlecityaqclub.org for all your auction labels!",null,null,"Visit www.circlecityaqclub.org for all your auction labels!"]
[]
["BAG#",{"$f":"+'Auction Sheet'!$A8","v":"-007"},null,"BAG#",{"$f":"+'Auction Sheet'!$A9","v":"-008"}]
[]
[{"$f":"+'Auction Sheet'!$B8","v":0},null,null,{"$f":"+'Auction Sheet'!$B9","v":0}]
[]
[]
[]
[{"$f":"IF(ISNUMBER($B43),\"MINIMUM BID\",\"\")","v":""},{"$f":"IF('Auction Sheet'!$F8>0,'Auction Sheet'!$F8,\"\")","v":""},null,{"$f":"IF(ISNUMBER($E43),\"MINIMUM BID\",\"\")","v":""},{"$f":"IF('Auction Sheet'!$F9>0,'Auction Sheet'!$F9,\"\")","v":""}]
[]
["Seller:",null,null,"Seller:"]
[{"$f":"+'Auction Sheet'!$B$29","v":0},{"$f":"+'Auction Sheet'!$B$33","v":0},null,{"$f":"+'Auction Sheet'!$B$29","v":0},{"$f":"+'Auction Sheet'!$B$33","v":0}]
["Visit www.circlecityaqclub.org for all your auction labels!",null,null,"Visit www.circlecityaqclub.org for all your auction labels!"]
[]
["BAG#",{"$f":"+'Auction Sheet'!$A10","v":"-009"},null,"BAG#",{"$f":"+'Auction Sheet'!$A11","v":"-010"}]
[]
[{"$f":"+'Auction Sheet'!$B10","v":0},null,null,{"$f":"+'Auction Sheet'!$B11","v":0}]
[]
[]
[]
[{"$f":"IF(ISNUMBER($B55),\"MINIMUM BID\",\"\")","v":""},{"$f":"IF('Auction Sheet'!$F10>0,'Auction Sheet'!$F10,\"\")","v":""},null,{"$f":"IF(ISNUMBER($E55),\"MINIMUM BID\",\"\")","v":""},{"$f":"IF('Auction Sheet'!$F11>0,'Auction Sheet'!$F11,\"\")","v":""}]
[]
["Seller:",null,null,"Seller:"]
[{"$f":"+'Auction Sheet'!$B$29","v":0},{"$f":"+'Auction Sheet'!$B$33","v":0},null,{"$f":"+'Auction Sheet'!$B$29","v":0},{"$f":"+'Auction Sheet'!$B$33","v":0}]
["Visit www.circlecityaqclub.org for all your auction labels!",null,null,"Visit www.circlecityaqclub.org for all your auction labels!"]
["BAG#",{"$f":"+'Auction Sheet'!$A12","v":"-011"},null,"BAG#",{"$f":"+'Auction Sheet'!$A13","v":"-012"}]
[]
[{"$f":"+'Auction Sheet'!$B12","v":0},null,null,{"$f":"+'Auction Sheet'!$B13","v":0}]
[]
[]
[]
[{"$f":"IF(ISNUMBER($B66),\"MINIMUM BID\",\"\")","v":""},{"$f":"IF('Auction Sheet'!$F12>0,'Auction Sheet'!$F12,\"\")","v":""},null,{"$f":"IF(ISNUMBER($E66),\"MINIMUM BID\",\"\")","v":""},{"$f":"IF('Auction Sheet'!$F13>0,'Auction Sheet'!$F13,\"\")","v":""}]
[]
["Seller:",null,null,"Seller:"]
[{"$f":"+'Auction Sheet'!$B$29","v":0},{"$f":"+'Auction Sheet'!$B$33","v":0},null,{"$f":"+'Auction Sheet'!$B$29","v":0},{"$f":"+'Auction Sheet'!$B$33","v":0}]
["Visit www.circlecityaqclub.org for all your auction labels!",null,null,"Visit www.circlecityaqclub.org for all your auction labels!"]
[]
["BAG#",{"$f":"+'Auction Sheet'!$A14","v":"-013"},null,"BAG#",{"$f":"+'Auction Sheet'!$A15","v":"-014"}]
[]
[{"$f":"+'Auction Sheet'!$B14","v":0},null,null,{"$f":"+'Auction Sheet'!$B15","v":0}]
[]
[]
[]
[{"$f":"IF(ISNUMBER($B78),\"MINIMUM BID\",\"\")","v":""},{"$f":"IF('Auction Sheet'!$F14>0,'Auction Sheet'!$F14,\"\")","v":""},null,{"$f":"IF(ISNUMBER($E78),\"MINIMUM BID\",\"\")","v":""},{"$f":"IF('Auction Sheet'!$F15>0,'Auction Sheet'!$F15,\"\")","v":""}]
[]
["Seller:",null,null,"Seller:"]
[{"$f":"+'Auction Sheet'!$B$29","v":0},{"$f":"+'Auction Sheet'!$B$33","v":0},null,{"$f":"+'Auction Sheet'!$B$29","v":0},{"$f":"+'Auction Sheet'!$B$33","v":0}]
["Visit www.circlecityaqclub.org for all your auction labels!",null,null,"Visit www.circlecityaqclub.org for all your auction labels!"]
[]
["BAG#",{"$f":"+'Auction Sheet'!$A16","v":"-015"},null,"BAG#",{"$f":"+'Auction Sheet'!$A17","v":"-016"}]
[]
[{"$f":"+'Auction Sheet'!$B16","v":0},null,null,{"$f":"+'Auction Sheet'!$B17","v":0}]
[]
[]
[]
[{"$f":"IF(ISNUMBER($B90),\"MINIMUM BID\",\"\")","v":""},{"$f":"IF('Auction Sheet'!$F16>0,'Auction Sheet'!$F16,\"\")","v":""},null,{"$f":"IF(ISNUMBER($E90),\"MINIMUM BID\",\"\")","v":""},{"$f":"IF('Auction Sheet'!$F17>0,'Auction Sheet'!$F17,\"\")","v":""}]
[]
["Seller:",null,null,"Seller:"]
[{"$f":"+'Auction Sheet'!$B$29","v":0},{"$f":"+'Auction Sheet'!$B$33","v":0},null,{"$f":"+'Auction Sheet'!$B$29","v":0},{"$f":"+'Auction Sheet'!$B$33","v":0}]
["Visit www.circlecityaqclub.org for all your auction labels!",null,null,"Visit www.circlecityaqclub.org for all your auction labels!"]
[]
["BAG#",{"$f":"+'Auction Sheet'!$A18","v":"-017"},null,"BAG#",{"$f":"+'Auction Sheet'!$A19","v":"-018"}]
[]
[{"$f":"+'Auction Sheet'!$B18","v":0},null,null,{"$f":"+'Auction Sheet'!$B19","v":0}]
[]
[]
[]
[{"$f":"IF(ISNUMBER($B102),\"MINIMUM BID\",\"\")","v":""},{"$f":"IF('Auction Sheet'!$F18>0,'Auction Sheet'!$F18,\"\")","v":""},null,{"$f":"IF(ISNUMBER($E102),\"MINIMUM BID\",\"\")","v":""},{"$f":"IF('Auction Sheet'!$F19>0,'Auction Sheet'!$F19,\"\")","v":""}]
[]
["Seller:",null,null,"Seller:"]
[{"$f":"+'Auction Sheet'!$B$29","v":0},{"$f":"+'Auction Sheet'!$B$33","v":0},null,{"$f":"+'Auction Sheet'!$B$29","v":0},{"$f":"+'Auction Sheet'!$B$33","v":0}]
["Visit www.circlecityaqclub.org for all your auction labels!",null,null,"Visit www.circlecityaqclub.org for all your auction labels!"]
[]
["BAG#",{"$f":"+'Auction Sheet'!$A20","v":"-019"},null,"BAG#",{"$f":"+'Auction Sheet'!$A21","v":"-020"}]
[]
[{"$f":"+'Auction Sheet'!$B20","v":0},null,null,{"$f":"+'Auction Sheet'!$B21","v":0}]
[]
[]
[]
[{"$f":"IF(ISNUMBER($B114),\"MINIMUM BID\",\"\")","v":""},{"$f":"IF('Auction Sheet'!$F20>0,'Auction Sheet'!$F20,\"\")","v":""},null,{"$f":"IF(ISNUMBER($E114),\"MINIMUM BID\",\"\")","v":""},{"$f":"IF('Auction Sheet'!$F21>0,'Auction Sheet'!$F21,\"\")","v":""}]
[]
["Seller:",null,null,"Seller:"]
[{"$f":"+'Auction Sheet'!$B$29","v":0},{"$f":"+'Auction Sheet'!$B$33","v":0},null,{"$f":"+'Auction Sheet'!$B$29","v":0},{"$f":"+'Auction Sheet'!$B$33","v":0}]
["Visit www.circlecityaqclub.org for all your auction labels!",null,null,"Visit www.circlecityaqclub.org for all your auction labels!"]
["BAG#",{"$f":"+'Auction Sheet'!$A22","v":"-021"},null,"BAG#",{"$f":"+'Auction Sheet'!$A23","v":"-022"}]
[]
[{"$f":"+'Auction Sheet'!$B22","v":0},null,null,{"$f":"+'Auction Sheet'!$B23","v":0}]
[]
[]
[]
[{"$f":"IF(ISNUMBER($B125),\"MINIMUM BID\",\"\")","v":""},{"$f":"IF('Auction Sheet'!$F22>0,'Auction Sheet'!$F22,\"\")","v":""},null,{"$f":"IF(ISNUMBER($E125),\"MINIMUM BID\",\"\")","v":""},{"$f":"IF('Auction Sheet'!$F23>0,'Auction Sheet'!$F23,\"\")","v":""}]
[]
["Seller:",null,null,"Seller:"]
[{"$f":"+'Auction Sheet'!$B$29","v":0},{"$f":"+'Auction Sheet'!$B$33","v":0},null,{"$f":"+'Auction Sheet'!$B$29","v":0},{"$f":"+'Auction Sheet'!$B$33","v":0}]
["Visit www.circlecityaqclub.org for all your auction labels!",null,null,"Visit www.circlecityaqclub.org for all your auction labels!"]
[]
["BAG#",{"$f":"+'Auction Sheet'!$A24","v":"-023"},null,"BAG#",{"$f":"+'Auction Sheet'!$A25","v":"-024"}]
[]
[{"$f":"+'Auction Sheet'!$B24","v":0},null,null,{"$f":"+'Auction Sheet'!$B25","v":0}]
[]
[]
[]
[{"$f":"IF(ISNUMBER($B137),\"MINIMUM BID\",\"\")","v":""},{"$f":"IF('Auction Sheet'!$F24>0,'Auction Sheet'!$F24,\"\")","v":""},null,{"$f":"IF(ISNUMBER($E137),\"MINIMUM BID\",\"\")","v":""},{"$f":"IF('Auction Sheet'!$F25>0,'Auction Sheet'!$F25,\"\")","v":""}]
[]
["Seller:",null,null,"Seller:"]
[{"$f":"+'Auction Sheet'!$B$29","v":0},{"$f":"+'Auction Sheet'!$B$33","v":0},null,{"$f":"+'Auction Sheet'!$B$29","v":0},{"$f":"+'Auction Sheet'!$B$33","v":0}]
["Visit www.circlecityaqclub.org for all your auction labels!",null,null,"Visit www.circlecityaqclub.org for all your auction labels!"]
[]
["BAG#",{"$f":"+'Auction Sheet'!$A26","v":"-025"},null,"BAG#",{"$f":"+'Auction Sheet'!$A36","v":"-026"}]
[]
[{"$f":"+'Auction Sheet'!$B26","v":0},null,null,{"$f":"+'Auction Sheet'!$B36","v":0}]
[]
[]
[]
[{"$f":"IF(ISNUMBER($B149),\"MINIMUM BID\",\"\")","v":""},{"$f":"IF('Auction Sheet'!$F26>0,'Auction Sheet'!$F26,\"\")","v":""},null,{"$f":"IF(ISNUMBER($E149),\"MINIMUM BID\",\"\")","v":""},{"$f":"IF('Auction Sheet'!$F36>0,'Auction Sheet'!$F36,\"\")","v":""}]
[]
["Seller:",null,null,"Seller:"]
[{"$f":"+'Auction Sheet'!$B$29","v":0},{"$f":"+'Auction Sheet'!$B$33","v":0},null,{"$f":"+'Auction Sheet'!$B$29","v":0},{"$f":"+'Auction Sheet'!$B$33","v":0}]
["Visit www.circlecityaqclub.org for all your auction labels!",null,null,"Visit www.circlecityaqclub.org for all your auction labels!"]
[]
["BAG#",{"$f":"+'Auction Sheet'!$A37","v":"-027"},null,"BAG#",{"$f":"+'Auction Sheet'!$A38","v":"-028"}]
[]
[{"$f":"+'Auction Sheet'!$B37","v":0},null,null,{"$f":"+'Auction Sheet'!$B38","v":0}]
[]
[]
[]
[{"$f":"IF(ISNUMBER($B161),\"MINIMUM BID\",\"\")","v":""},{"$f":"IF('Auction Sheet'!$F37>0,'Auction Sheet'!$F37,\"\")","v":""},null,{"$f":"IF(ISNUMBER($E161),\"MINIMUM BID\",\"\")","v":""},{"$f":"IF('Auction Sheet'!$F38>0,'Auction Sheet'!$F38,\"\")","v":""}]
[]
["Seller:",null,null,"Seller:"]
[{"$f":"+'Auction Sheet'!$B$29","v":0},{"$f":"+'Auction Sheet'!$B$33","v":0},null,{"$f":"+'Auction Sheet'!$B$29","v":0},{"$f":"+'Auction Sheet'!$B$33","v":0}]
["Visit www.circlecityaqclub.org for all your auction labels!",null,null,"Visit www.circlecityaqclub.org for all your auction labels!"]
[]
["BAG#",{"$f":"+'Auction Sheet'!$A39","v":"-029"},null,"BAG#",{"$f":"+'Auction Sheet'!$A40","v":"-030"}]
[]
[{"$f":"+'Auction Sheet'!$B39","v":0},null,null,{"$f":"+'Auction Sheet'!$B40","v":0}]
[]
[]
[]
[{"$f":"IF(ISNUMBER($B173),\"MINIMUM BID\",\"\")","v":""},{"$f":"IF('Auction Sheet'!$F39>0,'Auction Sheet'!$F39,\"\")","v":""},null,{"$f":"IF(ISNUMBER($E173),\"MINIMUM BID\",\"\")","v":""},{"$f":"IF('Auction Sheet'!$F40>0,'Auction Sheet'!$F40,\"\")","v":""}]
[]
["Seller:",null,null,"Seller:"]
[{"$f":"+'Auction Sheet'!$B$29","v":0},{"$f":"+'Auction Sheet'!$B$33","v":0},null,{"$f":"+'Auction Sheet'!$B$29","v":0},{"$f":"+'Auction Sheet'!$B$33","v":0}]
["Visit www.circlecityaqclub.org for all your auction labels!",null,null,"Visit www.circlecityaqclub.org for all your auction labels!"]
["BAG#",{"$f":"+'Auction Sheet'!$A41","v":"-031"},null,"BAG#",{"$f":"+'Auction Sheet'!$A42","v":"-032"}]
[]
[{"$f":"+'Auction Sheet'!$B41","v":0},null,null,{"$f":"+'Auction Sheet'!$B42","v":0}]
[]
[]
[]
[{"$f":"IF(ISNUMBER($B184),\"MINIMUM BID\",\"\")","v":""},{"$f":"IF('Auction Sheet'!$F41>0,'Auction Sheet'!$F41,\"\")","v":""},null,{"$f":"IF(ISNUMBER($E184),\"MINIMUM BID\",\"\")","v":""},{"$f":"IF('Auction Sheet'!$F42>0,'Auction Sheet'!$F42,\"\")","v":""}]
[]
["Seller:",null,null,"Seller:"]
[{"$f":"+'Auction Sheet'!$B$29","v":0},{"$f":"+'Auction Sheet'!$B$33","v":0},null,{"$f":"+'Auction Sheet'!$B$29","v":0},{"$f":"+'Auction Sheet'!$B$33","v":0}]
["Visit www.circlecityaqclub.org for all your auction labels!",null,null,"Visit www.circlecityaqclub.org for all your auction labels!"]
[]
["BAG#",{"$f":"+'Auction Sheet'!$A43","v":"-033"},null,"BAG#",{"$f":"+'Auction Sheet'!$A44","v":"-034"}]
[]
[{"$f":"+'Auction Sheet'!$B43","v":0},null,null,{"$f":"+'Auction Sheet'!$B44","v":0}]
[]
[]
[]
[{"$f":"IF(ISNUMBER($B196),\"MINIMUM BID\",\"\")","v":""},{"$f":"IF('Auction Sheet'!$F43>0,'Auction Sheet'!$F43,\"\")","v":""},null,{"$f":"IF(ISNUMBER($E196),\"MINIMUM BID\",\"\")","v":""},{"$f":"IF('Auction Sheet'!$F44>0,'Auction Sheet'!$F44,\"\")","v":""}]
[]
["Seller:",null,null,"Seller:"]
[{"$f":"+'Auction Sheet'!$B$29","v":0},{"$f":"+'Auction Sheet'!$B$33","v":0},null,{"$f":"+'Auction Sheet'!$B$29","v":0},{"$f":"+'Auction Sheet'!$B$33","v":0}]
["Visit www.circlecityaqclub.org for all your auction labels!",null,null,"Visit www.circlecityaqclub.org for all your auction labels!"]
[]
["BAG#",{"$f":"+'Auction Sheet'!$A45","v":"-035"},null,"BAG#",{"$f":"+'Auction Sheet'!$A46","v":"-036"}]
[]
[{"$f":"+'Auction Sheet'!$B45","v":0},null,null,{"$f":"+'Auction Sheet'!$B46","v":0}]
[]
[]
[]
[{"$f":"IF(ISNUMBER($B208),\"MINIMUM BID\",\"\")","v":""},{"$f":"IF('Auction Sheet'!$F45>0,'Auction Sheet'!$F45,\"\")","v":""},null,{"$f":"IF(ISNUMBER($E208),\"MINIMUM BID\",\"\")","v":""},{"$f":"IF('Auction Sheet'!$F46>0,'Auction Sheet'!$F46,\"\")","v":""}]
[]
["Seller:",null,null,"Seller:"]
[{"$f":"+'Auction Sheet'!$B$29","v":0},{"$f":"+'Auction Sheet'!$B$33","v":0},null,{"$f":"+'Auction Sheet'!$B$29","v":0},{"$f":"+'Auction Sheet'!$B$33","v":0}]
["Visit www.circlecityaqclub.org for all your auction labels!",null,null,"Visit www.circlecityaqclub.org for all your auction labels!"]
[]
["BAG#",{"$f":"+'Auction Sheet'!$A47","v":"-037"},null,"BAG#",{"$f":"+'Auction Sheet'!$A48","v":"-038"}]
[]
[{"$f":"+'Auction Sheet'!$B47","v":0},null,null,{"$f":"+'Auction Sheet'!$B48","v":0}]
[]
[]
[]
[{"$f":"IF(ISNUMBER($B220),\"MINIMUM BID\",\"\")","v":""},{"$f":"IF('Auction Sheet'!$F47>0,'Auction Sheet'!$F47,\"\")","v":""},null,{"$f":"IF(ISNUMBER($E220),\"MINIMUM BID\",\"\")","v":""},{"$f":"IF('Auction Sheet'!$F48>0,'Auction Sheet'!$F48,\"\")","v":""}]
[]
["Seller:",null,null,"Seller:"]
[{"$f":"+'Auction Sheet'!$B$29","v":0},{"$f":"+'Auction Sheet'!$B$33","v":0},null,{"$f":"+'Auction Sheet'!$B$29","v":0},{"$f":"+'Auction Sheet'!$B$33","v":0}]
["Visit www.circlecityaqclub.org for all your auction labels!",null,null,"Visit www.circlecityaqclub.org for all your auction labels!"]
[]
["BAG#",{"$f":"+'Auction Sheet'!$A49","v":"-039"},null,"BAG#",{"$f":"+'Auction Sheet'!$A50","v":"-040"}]
[]
[{"$f":"+'Auction Sheet'!$B49","v":0},null,null,{"$f":"+'Auction Sheet'!$B50","v":0}]
[]
[]
[]
[{"$f":"IF(ISNUMBER($B232),\"MINIMUM BID\",\"\")","v":""},{"$f":"IF('Auction Sheet'!$F49>0,'Auction Sheet'!$F49,\"\")","v":""},null,{"$f":"IF(ISNUMBER($E232),\"MINIMUM BID\",\"\")","v":""},{"$f":"IF('Auction Sheet'!$F50>0,'Auction Sheet'!$F50,\"\")","v":""}]
[]
["Seller:",null,null,"Seller:"]
[{"$f":"+'Auction Sheet'!$B$29","v":0},{"$f":"+'Auction Sheet'!$B$33","v":0},null,{"$f":"+'Auction Sheet'!$B$29","v":0},{"$f":"+'Auction Sheet'!$B$33","v":0}]
["Visit www.circlecityaqclub.org for all your auction labels!",null,null,"Visit www.circlecityaqclub.org for all your auction labels!"]
["BAG#",{"$f":"+'Auction Sheet'!$A51","v":"-041"},null,"BAG#",{"$f":"+'Auction Sheet'!$A52","v":"-042"}]
[]
[{"$f":"+'Auction Sheet'!$B51","v":0},null,null,{"$f":"+'Auction Sheet'!$B52","v":0}]
[]
[]
[]
[{"$f":"IF(ISNUMBER($B243),\"MINIMUM BID\",\"\")","v":""},{"$f":"IF('Auction Sheet'!$F51>0,'Auction Sheet'!$F51,\"\")","v":""},null,{"$f":"IF(ISNUMBER($E243),\"MINIMUM BID\",\"\")","v":""},{"$f":"IF('Auction Sheet'!$F52>0,'Auction Sheet'!$F52,\"\")","v":""}]
[]
["Seller:",null,null,"Seller:"]
[{"$f":"+'Auction Sheet'!$B$29","v":0},{"$f":"+'Auction Sheet'!$B$33","v":0},null,{"$f":"+'Auction Sheet'!$B$29","v":0},{"$f":"+'Auction Sheet'!$B$33","v":0}]
["Visit www.circlecityaqclub.org for all your auction labels!",null,null,"Visit www.circlecityaqclub.org for all your auction labels!"]
[]
["BAG#",{"$f":"+'Auction Sheet'!$A53","v":"-043"},null,"BAG#",{"$f":"+'Auction Sheet'!$A54","v":"-044"}]
[]
[{"$f":"+'Auction Sheet'!$B53","v":0},null,null,{"$f":"+'Auction Sheet'!$B54","v":0}]
[]
[]
[]
[{"$f":"IF(ISNUMBER($B255),\"MINIMUM BID\",\"\")","v":""},{"$f":"IF('Auction Sheet'!$F53>0,'Auction Sheet'!$F53,\"\")","v":""},null,{"$f":"IF(ISNUMBER($E255),\"MINIMUM BID\",\"\")","v":""},{"$f":"IF('Auction Sheet'!$F54>0,'Auction Sheet'!$F54,\"\")","v":""}]
[]
["Seller:",null,null,"Seller:"]
[{"$f":"+'Auction Sheet'!$B$29","v":0},{"$f":"+'Auction Sheet'!$B$33","v":0},null,{"$f":"+'Auction Sheet'!$B$29","v":0},{"$f":"+'Auction Sheet'!$B$33","v":0}]
["Visit www.circlecityaqclub.org for all your auction labels!",null,null,"Visit www.circlecityaqclub.org for all your auction labels!"]
[]
["BAG#",{"$f":"+'Auction Sheet'!$A55","v":"-045"},null,"BAG#",{"$f":"+'Auction Sheet'!$A56","v":"-046"}]
[]
[{"$f":"+'Auction Sheet'!$B55","v":0},null,null,{"$f":"+'Auction Sheet'!$B56","v":0}]
[]
[]
[]
[{"$f":"IF(ISNUMBER($B267),\"MINIMUM BID\",\"\")","v":""},{"$f":"IF('Auction Sheet'!$F55>0,'Auction Sheet'!$F55,\"\")","v":""},null,{"$f":"IF(ISNUMBER($E267),\"MINIMUM BID\",\"\")","v":""},{"$f":"IF('Auction Sheet'!$F56>0,'Auction Sheet'!$F56,\"\")","v":""}]
[]
["Seller:",null,null,"Seller:"]
[{"$f":"+'Auction Sheet'!$B$29","v":0},{"$f":"+'Auction Sheet'!$B$33","v":0},null,{"$f":"+'Auction Sheet'!$B$29","v":0},{"$f":"+'Auction Sheet'!$B$33","v":0}]
["Visit www.circlecityaqclub.org for all your auction labels!",null,null,"Visit www.circlecityaqclub.org for all your auction labels!"]
[]
["BAG#",{"$f":"+'Auction Sheet'!$A57","v":"-047"},null,"BAG#",{"$f":"+'Auction Sheet'!$A58","v":"-048"}]
[]
[{"$f":"+'Auction Sheet'!$B57","v":0},null,null,{"$f":"+'Auction Sheet'!$B58","v":0}]
[]
[]
[]
[{"$f":"IF(ISNUMBER($B279),\"MINIMUM BID\",\"\")","v":""},{"$f":"IF('Auction Sheet'!$F57>0,'Auction Sheet'!$F57,\"\")","v":""},null,{"$f":"IF(ISNUMBER($E279),\"MINIMUM BID\",\"\")","v":""},{"$f":"IF('Auction Sheet'!$F58>0,'Auction Sheet'!$F58,\"\")","v":""}]
[]
["Seller:",null,null,"Seller:"]
[{"$f":"+'Auction Sheet'!$B$29","v":0},{"$f":"+'Auction Sheet'!$B$33","v":0},null,{"$f":"+'Auction Sheet'!$B$29","v":0},{"$f":"+'Auction Sheet'!$B$33","v":0}]
["Visit www.circlecityaqclub.org for all your auction labels!",null,null,"Visit www.circlecityaqclub.org for all your auction labels!"]
[]
["BAG#",{"$f":"+'Auction Sheet'!$A59","v":"-049"},null,"BAG#",{"$f":"+'Auction Sheet'!$A60","v":"-050"}]
[]
[{"$f":"+'Auction Sheet'!$B59","v":0},null,null,{"$f":"+'Auction Sheet'!$B60","v":0}]
[]
[]
[]
[{"$f":"IF(ISNUMBER($B291),\"MINIMUM BID\",\"\")","v":""},{"$f":"IF('Auction Sheet'!$F59>0,'Auction Sheet'!$F59,\"\")","v":""},null,{"$f":"IF(ISNUMBER($E291),\"MINIMUM BID\",\"\")","v":""},{"$f":"IF('Auction Sheet'!$F60>0,'Auction Sheet'!$F60,\"\")","v":""}]
[]
["Seller:",null,null,"Seller:"]
[{"$f":"+'Auction Sheet'!$B$29","v":0},{"$f":"+'Auction Sheet'!$B$33","v":0},null,{"$f":"+'Auction Sheet'!$B$29","v":0},{"$f":"+'Auction Sheet'!$B$33","v":0}]
["Visit www.circlecityaqclub.org for all your auction labels!",null,null,"Visit www.circlecityaqclub.org for all your auction labels!"]
["BAG#",{"$f":"+'Auction Sheet'!$A69","v":"-051"},null,"BAG#",{"$f":"+'Auction Sheet'!$A70","v":"-052"}]
[]
[{"$f":"+'Auction Sheet'!$B69","v":0},null,null,{"$f":"+'Auction Sheet'!$B70","v":0}]
[]
[]
[]
[{"$f":"IF(ISNUMBER($B302),\"MINIMUM BID\",\"\")","v":""},{"$f":"IF('Auction Sheet'!$F69>0,'Auction Sheet'!$F69,\"\")","v":""},null,{"$f":"IF(ISNUMBER($E302),\"MINIMUM BID\",\"\")","v":""},{"$f":"IF('Auction Sheet'!$F70>0,'Auction Sheet'!$F70,\"\")","v":""}]
[]
["Seller:",null,null,"Seller:"]
[{"$f":"+'Auction Sheet'!$B$29","v":0},{"$f":"+'Auction Sheet'!$B$33","v":0},null,{"$f":"+'Auction Sheet'!$B$29","v":0},{"$f":"+'Auction Sheet'!$B$33","v":0}]
["Visit www.circlecityaqclub.org for all your auction labels!",null,null,"Visit www.circlecityaqclub.org for all your auction labels!"]
[]
["BAG#",{"$f":"+'Auction Sheet'!$A71","v":"-053"},null,"BAG#",{"$f":"+'Auction Sheet'!$A72","v":"-054"}]
[]
[{"$f":"+'Auction Sheet'!$B71","v":0},null,null,{"$f":"+'Auction Sheet'!$B72","v":0}]
[]
[]
[]
[{"$f":"IF(ISNUMBER($B314),\"MINIMUM BID\",\"\")","v":""},{"$f":"IF('Auction Sheet'!$F71>0,'Auction Sheet'!$F71,\"\")","v":""},null,{"$f":"IF(ISNUMBER($E314),\"MINIMUM BID\",\"\")","v":""},{"$f":"IF('Auction Sheet'!$F72>0,'Auction Sheet'!$F72,\"\")","v":""}]
[]
["Seller:",null,null,"Seller:"]
[{"$f":"+'Auction Sheet'!$B$29","v":0},{"$f":"+'Auction Sheet'!$B$33","v":0},null,{"$f":"+'Auction Sheet'!$B$29","v":0},{"$f":"+'Auction Sheet'!$B$33","v":0}]
["Visit www.circlecityaqclub.org for all your auction labels!",null,null,"Visit www.circlecityaqclub.org for all your auction labels!"]
[]
["BAG#",{"$f":"+'Auction Sheet'!$A73","v":"-055"},null,"BAG#",{"$f":"+'Auction Sheet'!$A74","v":"-056"}]
[]
[{"$f":"+'Auction Sheet'!$B73","v":0},null,null,{"$f":"+'Auction Sheet'!$B74","v":0}]
[]
[]
[]
[{"$f":"IF(ISNUMBER($B326),\"MINIMUM BID\",\"\")","v":""},{"$f":"IF('Auction Sheet'!$F73>0,'Auction Sheet'!$F73,\"\")","v":""},null,{"$f":"IF(ISNUMBER($E326),\"MINIMUM BID\",\"\")","v":""},{"$f":"IF('Auction Sheet'!$F74>0,'Auction Sheet'!$F74,\"\")","v":""}]
[]
["Seller:",null,null,"Seller:"]
[{"$f":"+'Auction Sheet'!$B$29","v":0},{"$f":"+'Auction Sheet'!$B$33","v":0},null,{"$f":"+'Auction Sheet'!$B$29","v":0},{"$f":"+'Auction Sheet'!$B$33","v":0}]
["Visit www.circlecityaqclub.org for all your auction labels!",null,null,"Visit www.circlecityaqclub.org for all your auction labels!"]
[]
["BAG#",{"$f":"+'Auction Sheet'!$A75","v":"-057"},null,"BAG#",{"$f":"+'Auction Sheet'!$A76","v":"-058"}]
[]
[{"$f":"+'Auction Sheet'!$B75","v":0},null,null,{"$f":"+'Auction Sheet'!$B76","v":0}]
[]
[]
[]
[{"$f":"IF(ISNUMBER($B338),\"MINIMUM BID\",\"\")","v":""},{"$f":"IF('Auction Sheet'!$F75>0,'Auction Sheet'!$F75,\"\")","v":""},null,{"$f":"IF(ISNUMBER($E338),\"MINIMUM BID\",\"\")","v":""},{"$f":"IF('Auction Sheet'!$F76>0,'Auction Sheet'!$F76,\"\")","v":""}]
[]
["Seller:",null,null,"Seller:"]
[{"$f":"+'Auction Sheet'!$B$29","v":0},{"$f":"+'Auction Sheet'!$B$33","v":0},null,{"$f":"+'Auction Sheet'!$B$29","v":0},{"$f":"+'Auction Sheet'!$B$33","v":0}]
["Visit www.circlecityaqclub.org for all your auction labels!",null,null,"Visit www.circlecityaqclub.org for all your auction labels!"]
[]
["BAG#",{"$f":"+'Auction Sheet'!$A77","v":"-059"},null,"BAG#",{"$f":"+'Auction Sheet'!$A78","v":"-060"}]
[]
[{"$f":"+'Auction Sheet'!$B77","v":0},null,null,{"$f":"+'Auction Sheet'!$B78","v":0}]
[]
[]
[]
[{"$f":"IF(ISNUMBER($B350),\"MINIMUM BID\",\"\")","v":""},{"$f":"IF('Auction Sheet'!$F77>0,'Auction Sheet'!$F77,\"\")","v":""},null,{"$f":"IF(ISNUMBER($E350),\"MINIMUM BID\",\"\")","v":""},{"$f":"IF('Auction Sheet'!$F78>0,'Auction Sheet'!$F78,\"\")","v":""}]
[]
["Seller:",null,null,"Seller:"]
[{"$f":"+'Auction Sheet'!$B$29","v":0},{"$f":"+'Auction Sheet'!$B$33","v":0},null,{"$f":"+'Auction Sheet'!$B$29","v":0},{"$f":"+'Auction Sheet'!$B$33","v":0}]
["Visit www.circlecityaqclub.org for all your auction labels!",null,null,"Visit www.circlecityaqclub.org for all your auction labels!"]
["BAG#",{"$f":"+'Auction Sheet'!$A79","v":"-061"},null,"BAG#",{"$f":"+'Auction Sheet'!$A80","v":"-062"}]
[]
[{"$f":"+'Auction Sheet'!$B79","v":0},null,null,{"$f":"+'Auction Sheet'!$B80","v":0}]
[]
[]
[]
[{"$f":"IF(ISNUMBER($B361),\"MINIMUM BID\",\"\")","v":""},{"$f":"IF('Auction Sheet'!$F79>0,'Auction Sheet'!$F79,\"\")","v":""},null,{"$f":"IF(ISNUMBER($E361),\"MINIMUM BID\",\"\")","v":""},{"$f":"IF('Auction Sheet'!$F80>0,'Auction Sheet'!$F80,\"\")","v":""}]
[]
["Seller:",null,null,"Seller:"]
[{"$f":"+'Auction Sheet'!$B$29","v":0},{"$f":"+'Auction Sheet'!$B$33","v":0},null,{"$f":"+'Auction Sheet'!$B$29","v":0},{"$f":"+'Auction Sheet'!$B$33","v":0}]
["Visit www.circlecityaqclub.org for all your auction labels!",null,null,"Visit www.circlecityaqclub.org for all your auction labels!"]
[]
["BAG#",{"$f":"+'Auction Sheet'!$A81","v":"-063"},null,"BAG#",{"$f":"+'Auction Sheet'!$A82","v":"-064"}]
[]
[{"$f":"+'Auction Sheet'!$B81","v":0},null,null,{"$f":"+'Auction Sheet'!$B82","v":0}]
[]
[]
[]
[{"$f":"IF(ISNUMBER($B373),\"MINIMUM BID\",\"\")","v":""},{"$f":"IF('Auction Sheet'!$F81>0,'Auction Sheet'!$F81,\"\")","v":""},null,{"$f":"IF(ISNUMBER($E373),\"MINIMUM BID\",\"\")","v":""},{"$f":"IF('Auction Sheet'!$F82>0,'Auction Sheet'!$F82,\"\")","v":""}]
[]
["Seller:",null,null,"Seller:"]
[{"$f":"+'Auction Sheet'!$B$29","v":0},{"$f":"+'Auction Sheet'!$B$33","v":0},null,{"$f":"+'Auction Sheet'!$B$29","v":0},{"$f":"+'Auction Sheet'!$B$33","v":0}]
["Visit www.circlecityaqclub.org for all your auction labels!",null,null,"Visit www.circlecityaqclub.org for all your auction labels!"]
[]
["BAG#",{"$f":"+'Auction Sheet'!$A83","v":"-065"},null,"BAG#",{"$f":"+'Auction Sheet'!$A84","v":"-066"}]
[]
[{"$f":"+'Auction Sheet'!$B83","v":0},null,null,{"$f":"+'Auction Sheet'!$B84","v":0}]
[]
[]
[]
[{"$f":"IF(ISNUMBER($B385),\"MINIMUM BID\",\"\")","v":""},{"$f":"IF('Auction Sheet'!$F83>0,'Auction Sheet'!$F83,\"\")","v":""},null,{"$f":"IF(ISNUMBER($E385),\"MINIMUM BID\",\"\")","v":""},{"$f":"IF('Auction Sheet'!$F84>0,'Auction Sheet'!$F84,\"\")","v":""}]
[]
["Seller:",null,null,"Seller:"]
[{"$f":"+'Auction Sheet'!$B$29","v":0},{"$f":"+'Auction Sheet'!$B$33","v":0},null,{"$f":"+'Auction Sheet'!$B$29","v":0},{"$f":"+'Auction Sheet'!$B$33","v":0}]
["Visit www.circlecityaqclub.org for all your auction labels!",null,null,"Visit www.circlecityaqclub.org for all your auction labels!"]
[]
["BAG#",{"$f":"+'Auction Sheet'!$A85","v":"-067"},null,"BAG#",{"$f":"+'Auction Sheet'!$A86","v":"-068"}]
[]
[{"$f":"+'Auction Sheet'!$B85","v":0},null,null,{"$f":"+'Auction Sheet'!$B86","v":0}]
[]
[]
[]
[{"$f":"IF(ISNUMBER($B397),\"MINIMUM BID\",\"\")","v":""},{"$f":"IF('Auction Sheet'!$F85>0,'Auction Sheet'!$F85,\"\")","v":""},null,{"$f":"IF(ISNUMBER($E397),\"MINIMUM BID\",\"\")","v":""},{"$f":"IF('Auction Sheet'!$F86>0,'Auction Sheet'!$F86,\"\")","v":""}]
[]
["Seller:",null,null,"Seller:"]
[{"$f":"+'Auction Sheet'!$B$29","v":0},{"$f":"+'Auction Sheet'!$B$33","v":0},null,{"$f":"+'Auction Sheet'!$B$29","v":0},{"$f":"+'Auction Sheet'!$B$33","v":0}]
["Visit www.circlecityaqclub.org for all your auction labels!",null,null,"Visit www.circlecityaqclub.org for all your auction labels!"]
[]
["BAG#",{"$f":"+'Auction Sheet'!$A87","v":"-069"},null,"BAG#",{"$f":"+'Auction Sheet'!$A88","v":"-070"}]
[]
[{"$f":"+'Auction Sheet'!$B87","v":0},null,null,{"$f":"+'Auction Sheet'!$B88","v":0}]
[]
[]
[]
[{"$f":"IF(ISNUMBER($B409),\"MINIMUM BID\",\"\")","v":""},{"$f":"IF('Auction Sheet'!$F87>0,'Auction Sheet'!$F87,\"\")","v":""},null,{"$f":"IF(ISNUMBER($E409),\"MINIMUM BID\",\"\")","v":""},{"$f":"IF('Auction Sheet'!$F88>0,'Auction Sheet'!$F88,\"\")","v":""}]
[]
["Seller:",null,null,"Seller:"]
[{"$f":"+'Auction Sheet'!$B$29","v":0},{"$f":"+'Auction Sheet'!$B$33","v":0},null,{"$f":"+'Auction Sheet'!$B$29","v":0},{"$f":"+'Auction Sheet'!$B$33","v":0}]
["Visit www.circlecityaqclub.org for all your auction labels!",null,null,"Visit www.circlecityaqclub.org for all your auction labels!"]
["BAG#",{"$f":"+'Auction Sheet'!$A89","v":"-071"},null,"BAG#",{"$f":"+'Auction Sheet'!$A90","v":"-072"}]
[]
[{"$f":"+'Auction Sheet'!$B89","v":0},null,null,{"$f":"+'Auction Sheet'!$B90","v":0}]
[]
[]
[]
[{"$f":"IF(ISNUMBER($B420),\"MINIMUM BID\",\"\")","v":""},{"$f":"IF('Auction Sheet'!$F89>0,'Auction Sheet'!$F89,\"\")","v":""},null,{"$f":"IF(ISNUMBER($E420),\"MINIMUM BID\",\"\")","v":""},{"$f":"IF('Auction Sheet'!$F90>0,'Auction Sheet'!$F90,\"\")","v":""}]
[]
["Seller:",null,null,"Seller:"]
[{"$f":"+'Auction Sheet'!$B$29","v":0},{"$f":"+'Auction Sheet'!$B$33","v":0},null,{"$f":"+'Auction Sheet'!$B$29","v":0},{"$f":"+'Auction Sheet'!$B$33","v":0}]
["Visit www.circlecityaqclub.org for all your auction labels!",null,null,"Visit www.circlecityaqclub.org for all your auction labels!"]
[]
["BAG#",{"$f":"+'Auction Sheet'!$A91","v":"-073"},null,"BAG#",{"$f":"+'Auction Sheet'!$A92","v":"-074"}]
[]
[{"$f":"+'Auction Sheet'!$B91","v":0},null,null,{"$f":"+'Auction Sheet'!$B92","v":0}]
[]
[]
[]
[{"$f":"IF(ISNUMBER($B432),\"MINIMUM BID\",\"\")","v":""},{"$f":"IF('Auction Sheet'!$F91>0,'Auction Sheet'!$F91,\"\")","v":""},null,{"$f":"IF(ISNUMBER($E432),\"MINIMUM BID\",\"\")","v":""},{"$f":"IF('Auction Sheet'!$F92>0,'Auction Sheet'!$F92,\"\")","v":""}]
[]
["Seller:",null,null,"Seller:"]
[{"$f":"+'Auction Sheet'!$B$29","v":0},{"$f":"+'Auction Sheet'!$B$33","v":0},null,{"$f":"+'Auction Sheet'!$B$29","v":0},{"$f":"+'Auction Sheet'!$B$33","v":0}]
["Visit www.circlecityaqclub.org for all your auction labels!",null,null,"Visit www.circlecityaqclub.org for all your auction labels!"]
[]
["BAG#",{"$f":"+'Auction Sheet'!$A93","v":"-075"}]
[]
[{"$f":"+'Auction Sheet'!$B93","v":0}]
[]
[]
[]
[{"$f":"IF(ISNUMBER($B444),\"MINIMUM BID\",\"\")","v":""},{"$f":"IF('Auction Sheet'!$F93>0,'Auction Sheet'!$F93,\"\")","v":""}]
[]
["Seller:"]
[{"$f":"+'Auction Sheet'!$B$29","v":0},{"$f":"+'Auction Sheet'!$B$33","v":0}]
["Visit www.circlecityaqclub.org for all your auction labels!"]
[]
["PRINT ONLY FROM WHITE AREA ABOVE"]

{"sheet":"photo beta","index":3,"n_rows":450,"n_cols":6,"rows_kept":450,"cut":false,"hidden":true,"merged":[[447,0,447,1],[447,3,447,4],[439,0,442,1],[439,3,442,4],[443,0,444,0],[443,1,444,1],[443,3,444,3],[443,4,444,4],[435,0,435,1],[435,3,435,4],[437,0,438,0],[437,1,438,1],[437,3,438,3],[437,4,438,4],[427,0,430,1],[427,3,430,4],[431,0,432,0],[431,1,432,1],[431,3,432,3],[431,4,432,4],[423,0,423,1],[423,3,423,4],[425,0,426,0],[425,1,426,1],[425,3,426,3],[425,4,426,4],[415,0,418,1],[415,3,418,4],[419,0,420,0],[419,1,420,1],[419,3,420,3],[419,4,420,4],[412,0,412,1],[412,3,412,4],[413,0,414,0],[413,1,414,1],[413,3,414,3],[413,4,414,4],[404,0,407,1],[404,3,407,4],[408,0,409,0],[408,1,409,1],[408,3,409,3],[408,4,409,4],[400,0,400,1],[400,3,400,4],[402,0,403,0],[402,1,403,1],[402,3,403,3],[402,4,403,4],[392,0,395,1],[392,3,395,4],[396,0,397,0],[396,1,397,1],[396,3,397,3],[396,4,397,4],[388,0,388,1],[388,3,388,4],[390,0,391,0],[390,1,391,1],[390,3,391,3],[390,4,391,4],[380,0,383,1],[380,3,383,4],[384,0,385,0],[384,1,385,1],[384,3,385,3],[384,4,385,4],[376,0,376,1],[376,3,376,4],[378,0,379,0],[378,1,379,1],[378,3,379,3],[378,4,379,4],[368,0,371,1],[368,3,371,4],[372,0,373,0],[372,1,373,1],[372,3,373,3],[372,4,373,4],[364,0,364,1],[364,3,364,4],[366,0,367,0],[366,1,367,1],[366,3,367,3],[366,4,367,4],[356,0,359,1],[356,3,359,4],[360,0,361,0],[360,1,361,1],[360,3,361,3],[360,4,361,4],[353,0,353,1],[353,3,353,4],[354,0,355,0],[354,1,355,1],[354,3,355,3],[354,4,355,4],[345,0,348,1],[345,3,348,4],[349,0,350,0],[349,1,350,1],[349,3,350,3],[349,4,350,4],[341,0,341,1],[341,3,341,4],[343,0,344,0],[343,1,344,1],[343,3,344,3],[343,4,344,4],[333,0,336,1],[333,3,336,4],[337,0,338,0],[337,1,338,1],[337,3,338,3],[337,4,338,4],[329,0,329,1],[329,3,329,4],[331,0,332,0],[331,1,332,1],[331,3,332,3],[331,4,332,4],[321,0,324,1],[321,3,324,4],[325,0,326,0],[325,1,326,1],[325,3,326,3],[325,4,326,4],[317,0,317,1],[317,3,317,4],[319,0,320,0],[319,1,320,1],[319,3,320,3],[319,4,320,4],[309,0,312,1],[309,3,312,4],[313,0,314,0],[313,1,314,1],[313,3,314,3],[313,4,314,4],[305,0,305,1],[305,3,305,4],[307,0,308,0],[307,1,308,1],[307,3,308,3],[307,4,308,4],[297,0,300,1],[297,3,300,4],[301,0,302,0],[301,1,302,1],[301,3,302,3],[301,4,302,4],[294,0,294,1],[294,3,294,4],[295,0,296,0],[295,1,296,1],[295,3,296,3],[295,4,296,4],[286,0,289,1],[286,3,289,4],[290,0,291,0],[290,1,291,1],[290,3,291,3],[290,4,291,4],[282,0,282,1],[282,3,282,4],[284,0,285,0],[284,1,285,1],[284,3,285,3],[284,4,285,4],[274,0,277,1],[274,3,277,4],[278,0,279,0],[278,1,279,1],[278,3,279,3],[278,4,279,4],[270,0,270,1],[270,3,270,4],[272,0,273,0],[272,1,273,1],[272,3,273,3],[272,4,273,4],[262,0,265,1],[262,3,265,4],[266,0,267,0],[266,1,267,1],[266,3,267,3],[266,4,267,4],[258,0,258,1],[258,3,258,4],[260,0,261,0],[260,1,261,1],[260,3,261,3],[260,4,261,4],[250,0,253,1],[250,3,253,4],[254,0,255,0],[254,1,255,1],[254,3,255,3],[254,4,255,4],[246,0,246,1],[246,3,246,4],[248,0,249,0],[248,1,249,1],[248,3,249,3],[248,4,249,4],[238,0,241,1],[238,3,241,4],[242,0,243,0],[242,1,243,1],[242,3,243,3],[242,4,243,4],[235,0,235,1],[235,3,235,4],[236,0,237,0],[236,1,237,1],[236,3,237,3],[236,4,237,4],[227,0,230,1],[227,3,230,4],[231,0,232,0],[231,1,232,1],[231,3,232,3],[231,4,232,4],[223,0,223,1],[223,3,223,4],[225,0,226,0],[225,1,226,1],[225,3,226,3],[225,4,226,4],[215,0,218,1],[215,3,218,4],[219,0,220,0],[219,1,220,1],[219,3,220,3],[219,4,220,4],[211,0,211,1],[211,3,211,4],[213,0,214,0],[213,1,214,1],[213,3,214,3],[213,4,214,4],[203,0,206,1],[203,3,206,4],[207,0,208,0],[207,1,208,1],[207,3,208,3],[207,4,208,4],[199,0,199,1],[199,3,199,4],[201,0,202,0],[201,1,202,1],[201,3,202,3],[201,4,202,4],[191,0,194,1],[191,3,194,4],[195,0,196,0],[195,1,196,1],[195,3,196,3],[195,4,196,4],[187,0,187,1],[187,3,187,4],[189,0,190,0],[189,1,190,1],[189,3,190,3],[189,4,190,4],[179,0,182,1],[179,3,182,4],[183,0,184,0],[183,1,184,1],[183,3,184,3],[183,4,184,4],[176,0,176,1],[176,3,176,4],[177,0,178,0],[177,1,178,1],[177,3,178,3],[177,4,178,4],[168,0,171,1],[168,3,171,4],[172,0,173,0],[172,1,173,1],[172,3,173,3],[172,4,173,4],[164,0,164,1],[164,3,164,4],[166,0,167,0],[166,1,167,1],[166,3,167,3],[166,4,167,4],[156,0,159,1],[156,3,159,4],[160,0,161,0],[160,1,161,1],[160,3,161,3],[160,4,161,4],[152,0,152,1],[152,3,152,4],[154,0,155,0],[154,1,155,1],[154,3,155,3],[154,4,155,4],[144,0,147,1],[144,3,147,4],[148,0,149,0],[148,1,149,1],[148,3,149,3],[148,4,149,4],[140,0,140,1],[140,3,140,4],[142,0,143,0],[142,1,143,1],[142,3,143,3],[142,4,143,4],[132,0,135,1],[132,3,135,4],[136,0,137,0],[136,1,137,1],[136,3,137,3],[136,4,137,4],[128,0,128,1],[128,3,128,4],[130,0,131,0],[130,1,131,1],[130,3,131,3],[130,4,131,4],[120,0,123,1],[120,3,123,4],[124,0,125,0],[124,1,125,1],[124,3,125,3],[124,4,125,4],[117,0,117,1],[117,3,117,4],[118,0,119,0],[118,1,119,1],[118,3,119,3],[118,4,119,4],[109,0,112,1],[109,3,112,4],[113,0,114,0],[113,1,114,1],[113,3,114,3],[113,4,114,4],[105,0,105,1],[105,3,105,4],[107,0,108,0],[107,1,108,1],[107,3,108,3],[107,4,108,4],[97,0,100,1],[97,3,100,4],[101,0,102,0],[101,1,102,1],[101,3,102,3],[101,4,102,4],[93,0,93,1],[93,3,93,4],[95,0,96,0],[95,1,96,1],[95,3,96,3],[95,4,96,4],[85,0,88,1],[85,3,88,4],[89,0,90,0],[89,1,90,1],[89,3,90,3],[89,4,90,4],[81,0,81,1],[81,3,81,4],[83,0,84,0],[83,1,84,1],[83,3,84,3],[83,4,84,4],[73,0,76,1],[73,3,76,4],[77,0,78,0],[77,1,78,1],[77,3,78,3],[77,4,78,4],[69,0,69,1],[69,3,69,4],[71,0,72,0],[71,1,72,1],[71,3,72,3],[71,4,72,4],[61,0,64,1],[61,3,64,4],[65,0,66,0],[65,1,66,1],[65,3,66,3],[65,4,66,4],[58,0,58,1],[58,3,58,4],[59,0,60,0],[59,1,60,1],[59,3,60,3],[59,4,60,4],[50,0,53,1],[50,3,53,4],[54,0,55,0],[54,1,55,1],[54,3,55,3],[54,4,55,4],[46,0,46,1],[46,3,46,4],[48,0,49,0],[48,1,49,1],[48,3,49,3],[48,4,49,4],[38,0,41,1],[38,3,41,4],[42,0,43,0],[42,1,43,1],[42,3,43,3],[42,4,43,4],[34,0,34,1],[34,3,34,4],[36,0,37,0],[36,1,37,1],[36,3,37,3],[36,4,37,4],[30,0,31,0],[30,1,31,1],[30,3,31,3],[30,4,31,4],[19,5,26,5],[22,0,22,1],[22,3,22,4],[24,0,25,0],[24,1,25,1],[24,3,25,3],[24,4,25,4],[26,0,29,1],[26,3,29,4],[18,0,19,0],[18,1,19,1],[18,3,19,3],[18,4,19,4],[10,3,10,4],[12,0,13,0],[12,1,13,1],[12,3,13,3],[12,4,13,4],[14,0,17,1],[14,3,17,4],[0,0,1,0],[0,1,1,1],[0,3,1,3],[0,4,1,4],[3,5,17,5],[6,0,7,0],[6,1,7,1],[6,3,7,3],[6,4,7,4],[10,0,10,1],[2,0,5,1],[2,3,5,4]]}
[{"$f":"Labels!A1","v":"BAG#"},{"$f":"Labels!B1","v":"-001"},null,{"$f":"Labels!D1","v":"BAG#"},{"$f":"Labels!E1","v":"-002"}]
[]
[{"$f":"Labels!A3","v":0},null,null,{"$f":"Labels!D3","v":0}]
[null,null,null,null,null,"PRINT ONLY FROM WHITE AREA TO LEFT"]
[]
[]
[{"$f":"Labels!A7","v":""},{"$f":"Labels!B7","v":""},null,{"$f":"Labels!D7","v":""},{"$f":"Labels!E7","v":""}]
[]
["Seller:",null,null,"Seller:"]
[{"$f":"Labels!A10","v":0},{"$f":"Labels!B10","v":0},null,{"$f":"Labels!D10","v":0},{"$f":"Labels!E10","v":0}]
["Visit www.circlecityaqclub.org for all your auction labels!",null,null,"Visit www.circlecityaqclub.org for all your auction labels!"]
[]
[{"$f":"Labels!A13","v":"BAG#"},{"$f":"Labels!B13","v":"-003"},null,{"$f":"Labels!D13","v":"BAG#"},{"$f":"Labels!E13","v":"-004"}]
[]
[{"$f":"Labels!A15","v":0},null,null,{"$f":"Labels!D15","v":0}]
[]
[]
[]
[{"$f":"Labels!A19","v":""},{"$f":"Labels!B19","v":""},null,{"$f":"Labels!D19","v":""},{"$f":"Labels!E19","v":""}]
[null,null,null,null,null,"USES AVERY 5163 2x4"]
["Seller:",null,null,"Seller:"]
[{"$f":"Labels!A22","v":0},{"$f":"Labels!B22","v":0},null,{"$f":"Labels!D22","v":0},{"$f":"Labels!E22","v":0}]
["Visit www.circlecityaqclub.org for all your auction labels!",null,null,"Visit www.circlecityaqclub.org for all your auction labels!"]
[]
[{"$f":"Labels!A25","v":"BAG#"},{"$f":"Labels!B25","v":"-005"},null,{"$f":"Labels!D25","v":"BAG#"},{"$f":"Labels!E25","v":"-006"}]
[]
[{"$f":"Labels!A27","v":0},null,null,{"$f":"Labels!D27","v":0}]
[]
[]
[]
[{"$f":"Labels!A31","v":""},{"$f":"Labels!B31","v":""},null,{"$f":"Labels!D31","v":""},{"$f":"Labels!E31","v":""}]
[]
["Seller:",null,null,"Seller:"]
[{"$f":"Labels!A34","v":0},{"$f":"Labels!B34","v":0},null,{"$f":"Labels!D34","v":0},{"$f":"Labels!E34","v":0}]
["Visit www.circlecityaqclub.org for all your auction labels!",null,null,"Visit www.circlecityaqclub.org for all your auction labels!"]
[]
[{"$f":"Labels!A37","v":"BAG#"},{"$f":"Labels!B37","v":"-007"},null,{"$f":"Labels!D37","v":"BAG#"},{"$f":"Labels!E37","v":"-008"}]
[]
[{"$f":"Labels!A39","v":0},null,null,{"$f":"Labels!D39","v":0}]
[]
[]
[]
[{"$f":"Labels!A43","v":""},{"$f":"Labels!B43","v":""},null,{"$f":"Labels!D43","v":""},{"$f":"Labels!E43","v":""}]
[]
["Seller:",null,null,"Seller:"]
[{"$f":"Labels!A46","v":0},{"$f":"Labels!B46","v":0},null,{"$f":"Labels!D46","v":0},{"$f":"Labels!E46","v":0}]
["Visit www.circlecityaqclub.org for all your auction labels!",null,null,"Visit www.circlecityaqclub.org for all your auction labels!"]
[]
[{"$f":"Labels!A49","v":"BAG#"},{"$f":"Labels!B49","v":"-009"},null,{"$f":"Labels!D49","v":"BAG#"},{"$f":"Labels!E49","v":"-010"}]
[]
[{"$f":"Labels!A51","v":0},null,null,{"$f":"Labels!D51","v":0}]
[]
[]
[]
[{"$f":"Labels!A55","v":""},{"$f":"Labels!B55","v":""},null,{"$f":"Labels!D55","v":""},{"$f":"Labels!E55","v":""}]
[]
["Seller:",null,null,"Seller:"]
[{"$f":"Labels!A58","v":0},{"$f":"Labels!B58","v":0},null,{"$f":"Labels!D58","v":0},{"$f":"Labels!E58","v":0}]
["Visit www.circlecityaqclub.org for all your auction labels!",null,null,"Visit www.circlecityaqclub.org for all your auction labels!"]
[{"$f":"Labels!A60","v":"BAG#"},{"$f":"Labels!B60","v":"-011"},null,{"$f":"Labels!D60","v":"BAG#"},{"$f":"Labels!E60","v":"-012"}]
[]
[{"$f":"Labels!A62","v":0},null,null,{"$f":"Labels!D62","v":0}]
[]
[]
[]
[{"$f":"Labels!A66","v":""},{"$f":"Labels!B66","v":""},null,{"$f":"Labels!D66","v":""},{"$f":"Labels!E66","v":""}]
[]
["Seller:",null,null,"Seller:"]
[{"$f":"Labels!A69","v":0},{"$f":"Labels!B69","v":0},null,{"$f":"Labels!D69","v":0},{"$f":"Labels!E69","v":0}]
["Visit www.circlecityaqclub.org for all your auction labels!",null,null,"Visit www.circlecityaqclub.org for all your auction labels!"]
[]
[{"$f":"Labels!A72","v":"BAG#"},{"$f":"Labels!B72","v":"-013"},null,{"$f":"Labels!D72","v":"BAG#"},{"$f":"Labels!E72","v":"-014"}]
[]
[{"$f":"Labels!A74","v":0},null,null,{"$f":"Labels!D74","v":0}]
[]
[]
[]
[{"$f":"Labels!A78","v":""},{"$f":"Labels!B78","v":""},null,{"$f":"Labels!D78","v":""},{"$f":"Labels!E78","v":""}]
[]
["Seller:",null,null,"Seller:"]
[{"$f":"Labels!A81","v":0},{"$f":"Labels!B81","v":0},null,{"$f":"Labels!D81","v":0},{"$f":"Labels!E81","v":0}]
["Visit www.circlecityaqclub.org for all your auction labels!",null,null,"Visit www.circlecityaqclub.org for all your auction labels!"]
[]
[{"$f":"Labels!A84","v":"BAG#"},{"$f":"Labels!B84","v":"-015"},null,{"$f":"Labels!D84","v":"BAG#"},{"$f":"Labels!E84","v":"-016"}]
[]
[{"$f":"Labels!A86","v":0},null,null,{"$f":"Labels!D86","v":0}]
[]
[]
[]
[{"$f":"Labels!A90","v":""},{"$f":"Labels!B90","v":""},null,{"$f":"Labels!D90","v":""},{"$f":"Labels!E90","v":""}]
[]
["Seller:",null,null,"Seller:"]
[{"$f":"Labels!A93","v":0},{"$f":"Labels!B93","v":0},null,{"$f":"Labels!D93","v":0},{"$f":"Labels!E93","v":0}]
["Visit www.circlecityaqclub.org for all your auction labels!",null,null,"Visit www.circlecityaqclub.org for all your auction labels!"]
[]
[{"$f":"Labels!A96","v":"BAG#"},{"$f":"Labels!B96","v":"-017"},null,{"$f":"Labels!D96","v":"BAG#"},{"$f":"Labels!E96","v":"-018"}]
[]
[{"$f":"Labels!A98","v":0},null,null,{"$f":"Labels!D98","v":0}]
[]
[]
[]
[{"$f":"Labels!A102","v":""},{"$f":"Labels!B102","v":""},null,{"$f":"Labels!D102","v":""},{"$f":"Labels!E102","v":""}]
[]
["Seller:",null,null,"Seller:"]
[{"$f":"Labels!A105","v":0},{"$f":"Labels!B105","v":0},null,{"$f":"Labels!D105","v":0},{"$f":"Labels!E105","v":0}]
["Visit www.circlecityaqclub.org for all your auction labels!",null,null,"Visit www.circlecityaqclub.org for all your auction labels!"]
[]
[{"$f":"Labels!A108","v":"BAG#"},{"$f":"Labels!B108","v":"-019"},null,{"$f":"Labels!D108","v":"BAG#"},{"$f":"Labels!E108","v":"-020"}]
[]
[{"$f":"Labels!A110","v":0},null,null,{"$f":"Labels!D110","v":0}]
[]
[]
[]
[{"$f":"Labels!A114","v":""},{"$f":"Labels!B114","v":""},null,{"$f":"Labels!D114","v":""},{"$f":"Labels!E114","v":""}]
[]
["Seller:",null,null,"Seller:"]
[{"$f":"Labels!A117","v":0},{"$f":"Labels!B117","v":0},null,{"$f":"Labels!D117","v":0},{"$f":"Labels!E117","v":0}]
["Visit www.circlecityaqclub.org for all your auction labels!",null,null,"Visit www.circlecityaqclub.org for all your auction labels!"]
[{"$f":"Labels!A119","v":"BAG#"},{"$f":"Labels!B119","v":"-021"},null,{"$f":"Labels!D119","v":"BAG#"},{"$f":"Labels!E119","v":"-022"}]
[]
[{"$f":"Labels!A121","v":0},null,null,{"$f":"Labels!D121","v":0}]
[]
[]
[]
[{"$f":"Labels!A125","v":""},{"$f":"Labels!B125","v":""},null,{"$f":"Labels!D125","v":""},{"$f":"Labels!E125","v":""}]
[]
["Seller:",null,null,"Seller:"]
[{"$f":"Labels!A128","v":0},{"$f":"Labels!B128","v":0},null,{"$f":"Labels!D128","v":0},{"$f":"Labels!E128","v":0}]
["Visit www.circlecityaqclub.org for all your auction labels!",null,null,"Visit www.circlecityaqclub.org for all your auction labels!"]
[]
[{"$f":"Labels!A131","v":"BAG#"},{"$f":"Labels!B131","v":"-023"},null,{"$f":"Labels!D131","v":"BAG#"},{"$f":"Labels!E131","v":"-024"}]
[]
[{"$f":"Labels!A133","v":0},null,null,{"$f":"Labels!D133","v":0}]
[]
[]
[]
[{"$f":"Labels!A137","v":""},{"$f":"Labels!B137","v":""},null,{"$f":"Labels!D137","v":""},{"$f":"Labels!E137","v":""}]
[]
["Seller:",null,null,"Seller:"]
[{"$f":"Labels!A140","v":0},{"$f":"Labels!B140","v":0},null,{"$f":"Labels!D140","v":0},{"$f":"Labels!E140","v":0}]
["Visit www.circlecityaqclub.org for all your auction labels!",null,null,"Visit www.circlecityaqclub.org for all your auction labels!"]
[]
[{"$f":"Labels!A143","v":"BAG#"},{"$f":"Labels!B143","v":"-025"},null,{"$f":"Labels!D143","v":"BAG#"},{"$f":"Labels!E143","v":"-026"}]
[]
[{"$f":"Labels!A145","v":0},null,null,{"$f":"Labels!D145","v":0}]
[]
[]
[]
[{"$f":"Labels!A149","v":""},{"$f":"Labels!B149","v":""},null,{"$f":"Labels!D149","v":""},{"$f":"Labels!E149","v":""}]
[]
["Seller:",null,null,"Seller:"]
[{"$f":"Labels!A152","v":0},{"$f":"Labels!B152","v":0},null,{"$f":"Labels!D152","v":0},{"$f":"Labels!E152","v":0}]
["Visit www.circlecityaqclub.org for all your auction labels!",null,null,"Visit www.circlecityaqclub.org for all your auction labels!"]
[]
[{"$f":"Labels!A155","v":"BAG#"},{"$f":"Labels!B155","v":"-027"},null,{"$f":"Labels!D155","v":"BAG#"},{"$f":"Labels!E155","v":"-028"}]
[]
[{"$f":"Labels!A157","v":0},null,null,{"$f":"Labels!D157","v":0}]
[]
[]
[]
[{"$f":"Labels!A161","v":""},{"$f":"Labels!B161","v":""},null,{"$f":"Labels!D161","v":""},{"$f":"Labels!E161","v":""}]
[]
["Seller:",null,null,"Seller:"]
[{"$f":"Labels!A164","v":0},{"$f":"Labels!B164","v":0},null,{"$f":"Labels!D164","v":0},{"$f":"Labels!E164","v":0}]
["Visit www.circlecityaqclub.org for all your auction labels!",null,null,"Visit www.circlecityaqclub.org for all your auction labels!"]
[]
[{"$f":"Labels!A167","v":"BAG#"},{"$f":"Labels!B167","v":"-029"},null,{"$f":"Labels!D167","v":"BAG#"},{"$f":"Labels!E167","v":"-030"}]
[]
[{"$f":"Labels!A169","v":0},null,null,{"$f":"Labels!D169","v":0}]
[]
[]
[]
[{"$f":"Labels!A173","v":""},{"$f":"Labels!B173","v":""},null,{"$f":"Labels!D173","v":""},{"$f":"Labels!E173","v":""}]
[]
["Seller:",null,null,"Seller:"]
[{"$f":"Labels!A176","v":0},{"$f":"Labels!B176","v":0},null,{"$f":"Labels!D176","v":0},{"$f":"Labels!E176","v":0}]
["Visit www.circlecityaqclub.org for all your auction labels!",null,null,"Visit www.circlecityaqclub.org for all your auction labels!"]
[{"$f":"Labels!A178","v":"BAG#"},{"$f":"Labels!B178","v":"-031"},null,{"$f":"Labels!D178","v":"BAG#"},{"$f":"Labels!E178","v":"-032"}]
[]
[{"$f":"Labels!A180","v":0},null,null,{"$f":"Labels!D180","v":0}]
[]
[]
[]
[{"$f":"Labels!A184","v":""},{"$f":"Labels!B184","v":""},null,{"$f":"Labels!D184","v":""},{"$f":"Labels!E184","v":""}]
[]
["Seller:",null,null,"Seller:"]
[{"$f":"Labels!A187","v":0},{"$f":"Labels!B187","v":0},null,{"$f":"Labels!D187","v":0},{"$f":"Labels!E187","v":0}]
["Visit www.circlecityaqclub.org for all your auction labels!",null,null,"Visit www.circlecityaqclub.org for all your auction labels!"]
[]
[{"$f":"Labels!A190","v":"BAG#"},{"$f":"Labels!B190","v":"-033"},null,{"$f":"Labels!D190","v":"BAG#"},{"$f":"Labels!E190","v":"-034"}]
[]
[{"$f":"Labels!A192","v":0},null,null,{"$f":"Labels!D192","v":0}]
[]
[]
[]
[{"$f":"Labels!A196","v":""},{"$f":"Labels!B196","v":""},null,{"$f":"Labels!D196","v":""},{"$f":"Labels!E196","v":""}]
[]
["Seller:",null,null,"Seller:"]
[{"$f":"Labels!A199","v":0},{"$f":"Labels!B199","v":0},null,{"$f":"Labels!D199","v":0},{"$f":"Labels!E199","v":0}]
["Visit www.circlecityaqclub.org for all your auction labels!",null,null,"Visit www.circlecityaqclub.org for all your auction labels!"]
[]
[{"$f":"Labels!A202","v":"BAG#"},{"$f":"Labels!B202","v":"-035"},null,{"$f":"Labels!D202","v":"BAG#"},{"$f":"Labels!E202","v":"-036"}]
[]
[{"$f":"Labels!A204","v":0},null,null,{"$f":"Labels!D204","v":0}]
[]
[]
[]
[{"$f":"Labels!A208","v":""},{"$f":"Labels!B208","v":""},null,{"$f":"Labels!D208","v":""},{"$f":"Labels!E208","v":""}]
[]
["Seller:",null,null,"Seller:"]
[{"$f":"Labels!A211","v":0},{"$f":"Labels!B211","v":0},null,{"$f":"Labels!D211","v":0},{"$f":"Labels!E211","v":0}]
["Visit www.circlecityaqclub.org for all your auction labels!",null,null,"Visit www.circlecityaqclub.org for all your auction labels!"]
[]
[{"$f":"Labels!A214","v":"BAG#"},{"$f":"Labels!B214","v":"-037"},null,{"$f":"Labels!D214","v":"BAG#"},{"$f":"Labels!E214","v":"-038"}]
[]
[{"$f":"Labels!A216","v":0},null,null,{"$f":"Labels!D216","v":0}]
[]
[]
[]
[{"$f":"Labels!A220","v":""},{"$f":"Labels!B220","v":""},null,{"$f":"Labels!D220","v":""},{"$f":"Labels!E220","v":""}]
[]
["Seller:",null,null,"Seller:"]
[{"$f":"Labels!A223","v":0},{"$f":"Labels!B223","v":0},null,{"$f":"Labels!D223","v":0},{"$f":"Labels!E223","v":0}]
["Visit www.circlecityaqclub.org for all your auction labels!",null,null,"Visit www.circlecityaqclub.org for all your auction labels!"]
[]
[{"$f":"Labels!A226","v":"BAG#"},{"$f":"Labels!B226","v":"-039"},null,{"$f":"Labels!D226","v":"BAG#"},{"$f":"Labels!E226","v":"-040"}]
[]
[{"$f":"Labels!A228","v":0},null,null,{"$f":"Labels!D228","v":0}]
[]
[]
[]
[{"$f":"Labels!A232","v":""},{"$f":"Labels!B232","v":""},null,{"$f":"Labels!D232","v":""},{"$f":"Labels!E232","v":""}]
[]
["Seller:",null,null,"Seller:"]
[{"$f":"Labels!A235","v":0},{"$f":"Labels!B235","v":0},null,{"$f":"Labels!D235","v":0},{"$f":"Labels!E235","v":0}]
["Visit www.circlecityaqclub.org for all your auction labels!",null,null,"Visit www.circlecityaqclub.org for all your auction labels!"]
[{"$f":"Labels!A237","v":"BAG#"},{"$f":"Labels!B237","v":"-041"},null,{"$f":"Labels!D237","v":"BAG#"},{"$f":"Labels!E237","v":"-042"}]
[]
[{"$f":"Labels!A239","v":0},null,null,{"$f":"Labels!D239","v":0}]
[]
[]
[]
[{"$f":"Labels!A243","v":""},{"$f":"Labels!B243","v":""},null,{"$f":"Labels!D243","v":""},{"$f":"Labels!E243","v":""}]
[]
["Seller:",null,null,"Seller:"]
[{"$f":"Labels!A246","v":0},{"$f":"Labels!B246","v":0},null,{"$f":"Labels!D246","v":0},{"$f":"Labels!E246","v":0}]
["Visit www.circlecityaqclub.org for all your auction labels!",null,null,"Visit www.circlecityaqclub.org for all your auction labels!"]
[]
[{"$f":"Labels!A249","v":"BAG#"},{"$f":"Labels!B249","v":"-043"},null,{"$f":"Labels!D249","v":"BAG#"},{"$f":"Labels!E249","v":"-044"}]
[]
[{"$f":"Labels!A251","v":0},null,null,{"$f":"Labels!D251","v":0}]
[]
[]
[]
[{"$f":"Labels!A255","v":""},{"$f":"Labels!B255","v":""},null,{"$f":"Labels!D255","v":""},{"$f":"Labels!E255","v":""}]
[]
["Seller:",null,null,"Seller:"]
[{"$f":"Labels!A258","v":0},{"$f":"Labels!B258","v":0},null,{"$f":"Labels!D258","v":0},{"$f":"Labels!E258","v":0}]
["Visit www.circlecityaqclub.org for all your auction labels!",null,null,"Visit www.circlecityaqclub.org for all your auction labels!"]
[]
[{"$f":"Labels!A261","v":"BAG#"},{"$f":"Labels!B261","v":"-045"},null,{"$f":"Labels!D261","v":"BAG#"},{"$f":"Labels!E261","v":"-046"}]
[]
[{"$f":"Labels!A263","v":0},null,null,{"$f":"Labels!D263","v":0}]
[]
[]
[]
[{"$f":"Labels!A267","v":""},{"$f":"Labels!B267","v":""},null,{"$f":"Labels!D267","v":""},{"$f":"Labels!E267","v":""}]
[]
["Seller:",null,null,"Seller:"]
[{"$f":"Labels!A270","v":0},{"$f":"Labels!B270","v":0},null,{"$f":"Labels!D270","v":0},{"$f":"Labels!E270","v":0}]
["Visit www.circlecityaqclub.org for all your auction labels!",null,null,"Visit www.circlecityaqclub.org for all your auction labels!"]
[]
[{"$f":"Labels!A273","v":"BAG#"},{"$f":"Labels!B273","v":"-047"},null,{"$f":"Labels!D273","v":"BAG#"},{"$f":"Labels!E273","v":"-048"}]
[]
[{"$f":"Labels!A275","v":0},null,null,{"$f":"Labels!D275","v":0}]
[]
[]
[]
[{"$f":"Labels!A279","v":""},{"$f":"Labels!B279","v":""},null,{"$f":"Labels!D279","v":""},{"$f":"Labels!E279","v":""}]
[]
["Seller:",null,null,"Seller:"]
[{"$f":"Labels!A282","v":0},{"$f":"Labels!B282","v":0},null,{"$f":"Labels!D282","v":0},{"$f":"Labels!E282","v":0}]
["Visit www.circlecityaqclub.org for all your auction labels!",null,null,"Visit www.circlecityaqclub.org for all your auction labels!"]
[]
[{"$f":"Labels!A285","v":"BAG#"},{"$f":"Labels!B285","v":"-049"},null,{"$f":"Labels!D285","v":"BAG#"},{"$f":"Labels!E285","v":"-050"}]
[]
[{"$f":"Labels!A287","v":0},null,null,{"$f":"Labels!D287","v":0}]
[]
[]
[]
[{"$f":"Labels!A291","v":""},{"$f":"Labels!B291","v":""},null,{"$f":"Labels!D291","v":""},{"$f":"Labels!E291","v":""}]
[]
["Seller:",null,null,"Seller:"]
[{"$f":"Labels!A294","v":0},{"$f":"Labels!B294","v":0},null,{"$f":"Labels!D294","v":0},{"$f":"Labels!E294","v":0}]
["Visit www.circlecityaqclub.org for all your auction labels!",null,null,"Visit www.circlecityaqclub.org for all your auction labels!"]
[{"$f":"Labels!A296","v":"BAG#"},{"$f":"Labels!B296","v":"-051"},null,{"$f":"Labels!D296","v":"BAG#"},{"$f":"Labels!E296","v":"-052"}]
[]
[{"$f":"Labels!A298","v":0},null,null,{"$f":"Labels!D298","v":0}]
[]
[]
[]
[{"$f":"Labels!A302","v":""},{"$f":"Labels!B302","v":""},null,{"$f":"Labels!D302","v":""},{"$f":"Labels!E302","v":""}]
[]
["Seller:",null,null,"Seller:"]
[{"$f":"Labels!A305","v":0},{"$f":"Labels!B305","v":0},null,{"$f":"Labels!D305","v":0},{"$f":"Labels!E305","v":0}]
["Visit www.circlecityaqclub.org for all your auction labels!",null,null,"Visit www.circlecityaqclub.org for all your auction labels!"]
[]
[{"$f":"Labels!A308","v":"BAG#"},{"$f":"Labels!B308","v":"-053"},null,{"$f":"Labels!D308","v":"BAG#"},{"$f":"Labels!E308","v":"-054"}]
[]
[{"$f":"Labels!A310","v":0},null,null,{"$f":"Labels!D310","v":0}]
[]
[]
[]
[{"$f":"Labels!A314","v":""},{"$f":"Labels!B314","v":""},null,{"$f":"Labels!D314","v":""},{"$f":"Labels!E314","v":""}]
[]
["Seller:",null,null,"Seller:"]
[{"$f":"Labels!A317","v":0},{"$f":"Labels!B317","v":0},null,{"$f":"Labels!D317","v":0},{"$f":"Labels!E317","v":0}]
["Visit www.circlecityaqclub.org for all your auction labels!",null,null,"Visit www.circlecityaqclub.org for all your auction labels!"]
[]
[{"$f":"Labels!A320","v":"BAG#"},{"$f":"Labels!B320","v":"-055"},null,{"$f":"Labels!D320","v":"BAG#"},{"$f":"Labels!E320","v":"-056"}]
[]
[{"$f":"Labels!A322","v":0},null,null,{"$f":"Labels!D322","v":0}]
[]
[]
[]
[{"$f":"Labels!A326","v":""},{"$f":"Labels!B326","v":""},null,{"$f":"Labels!D326","v":""},{"$f":"Labels!E326","v":""}]
[]
["Seller:",null,null,"Seller:"]
[{"$f":"Labels!A329","v":0},{"$f":"Labels!B329","v":0},null,{"$f":"Labels!D329","v":0},{"$f":"Labels!E329","v":0}]
["Visit www.circlecityaqclub.org for all your auction labels!",null,null,"Visit www.circlecityaqclub.org for all your auction labels!"]
[]
[{"$f":"Labels!A332","v":"BAG#"},{"$f":"Labels!B332","v":"-057"},null,{"$f":"Labels!D332","v":"BAG#"},{"$f":"Labels!E332","v":"-058"}]
[]
[{"$f":"Labels!A334","v":0},null,null,{"$f":"Labels!D334","v":0}]
[]
[]
[]
[{"$f":"Labels!A338","v":""},{"$f":"Labels!B338","v":""},null,{"$f":"Labels!D338","v":""},{"$f":"Labels!E338","v":""}]
[]
["Seller:",null,null,"Seller:"]
[{"$f":"Labels!A341","v":0},{"$f":"Labels!B341","v":0},null,{"$f":"Labels!D341","v":0},{"$f":"Labels!E341","v":0}]
["Visit www.circlecityaqclub.org for all your auction labels!",null,null,"Visit www.circlecityaqclub.org for all your auction labels!"]
[]
[{"$f":"Labels!A344","v":"BAG#"},{"$f":"Labels!B344","v":"-059"},null,{"$f":"Labels!D344","v":"BAG#"},{"$f":"Labels!E344","v":"-060"}]
[]
[{"$f":"Labels!A346","v":0},null,null,{"$f":"Labels!D346","v":0}]
[]
[]
[]
[{"$f":"Labels!A350","v":""},{"$f":"Labels!B350","v":""},null,{"$f":"Labels!D350","v":""},{"$f":"Labels!E350","v":""}]
[]
["Seller:",null,null,"Seller:"]
[{"$f":"Labels!A353","v":0},{"$f":"Labels!B353","v":0},null,{"$f":"Labels!D353","v":0},{"$f":"Labels!E353","v":0}]
["Visit www.circlecityaqclub.org for all your auction labels!",null,null,"Visit www.circlecityaqclub.org for all your auction labels!"]
[{"$f":"Labels!A355","v":"BAG#"},{"$f":"Labels!B355","v":"-061"},null,{"$f":"Labels!D355","v":"BAG#"},{"$f":"Labels!E355","v":"-062"}]
[]
[{"$f":"Labels!A357","v":0},null,null,{"$f":"Labels!D357","v":0}]
[]
[]
[]
[{"$f":"Labels!A361","v":""},{"$f":"Labels!B361","v":""},null,{"$f":"Labels!D361","v":""},{"$f":"Labels!E361","v":""}]
[]
["Seller:",null,null,"Seller:"]
[{"$f":"Labels!A364","v":0},{"$f":"Labels!B364","v":0},null,{"$f":"Labels!D364","v":0},{"$f":"Labels!E364","v":0}]
["Visit www.circlecityaqclub.org for all your auction labels!",null,null,"Visit www.circlecityaqclub.org for all your auction labels!"]
[]
[{"$f":"Labels!A367","v":"BAG#"},{"$f":"Labels!B367","v":"-063"},null,{"$f":"Labels!D367","v":"BAG#"},{"$f":"Labels!E367","v":"-064"}]
[]
[{"$f":"Labels!A369","v":0},null,null,{"$f":"Labels!D369","v":0}]
[]
[]
[]
[{"$f":"Labels!A373","v":""},{"$f":"Labels!B373","v":""},null,{"$f":"Labels!D373","v":""},{"$f":"Labels!E373","v":""}]
[]
["Seller:",null,null,"Seller:"]
[{"$f":"Labels!A376","v":0},{"$f":"Labels!B376","v":0},null,{"$f":"Labels!D376","v":0},{"$f":"Labels!E376","v":0}]
["Visit www.circlecityaqclub.org for all your auction labels!",null,null,"Visit www.circlecityaqclub.org for all your auction labels!"]
[]
[{"$f":"Labels!A379","v":"BAG#"},{"$f":"Labels!B379","v":"-065"},null,{"$f":"Labels!D379","v":"BAG#"},{"$f":"Labels!E379","v":"-066"}]
[]
[{"$f":"Labels!A381","v":0},null,null,{"$f":"Labels!D381","v":0}]
[]
[]
[]
[{"$f":"Labels!A385","v":""},{"$f":"Labels!B385","v":""},null,{"$f":"Labels!D385","v":""},{"$f":"Labels!E385","v":""}]
[]
["Seller:",null,null,"Seller:"]
[{"$f":"Labels!A388","v":0},{"$f":"Labels!B388","v":0},null,{"$f":"Labels!D388","v":0},{"$f":"Labels!E388","v":0}]
["Visit www.circlecityaqclub.org for all your auction labels!",null,null,"Visit www.circlecityaqclub.org for all your auction labels!"]
[]
[{"$f":"Labels!A391","v":"BAG#"},{"$f":"Labels!B391","v":"-067"},null,{"$f":"Labels!D391","v":"BAG#"},{"$f":"Labels!E391","v":"-068"}]
[]
[{"$f":"Labels!A393","v":0},null,null,{"$f":"Labels!D393","v":0}]
[]
[]
[]
[{"$f":"Labels!A397","v":""},{"$f":"Labels!B397","v":""},null,{"$f":"Labels!D397","v":""},{"$f":"Labels!E397","v":""}]
[]
["Seller:",null,null,"Seller:"]
[{"$f":"Labels!A400","v":0},{"$f":"Labels!B400","v":0},null,{"$f":"Labels!D400","v":0},{"$f":"Labels!E400","v":0}]
["Visit www.circlecityaqclub.org for all your auction labels!",null,null,"Visit www.circlecityaqclub.org for all your auction labels!"]
[]
[{"$f":"Labels!A403","v":"BAG#"},{"$f":"Labels!B403","v":"-069"},null,{"$f":"Labels!D403","v":"BAG#"},{"$f":"Labels!E403","v":"-070"}]
[]
[{"$f":"Labels!A405","v":0},null,null,{"$f":"Labels!D405","v":0}]
[]
[]
[]
[{"$f":"Labels!A409","v":""},{"$f":"Labels!B409","v":""},null,{"$f":"Labels!D409","v":""},{"$f":"Labels!E409","v":""}]
[]
["Seller:",null,null,"Seller:"]
[{"$f":"Labels!A412","v":0},{"$f":"Labels!B412","v":0},null,{"$f":"Labels!D412","v":0},{"$f":"Labels!E412","v":0}]
["Visit www.circlecityaqclub.org for all your auction labels!",null,null,"Visit www.circlecityaqclub.org for all your auction labels!"]
[{"$f":"Labels!A414","v":"BAG#"},{"$f":"Labels!B414","v":"-071"},null,{"$f":"Labels!D414","v":"BAG#"},{"$f":"Labels!E414","v":"-072"}]
[]
[{"$f":"Labels!A416","v":0},null,null,{"$f":"Labels!D416","v":0}]
[]
[]
[]
[{"$f":"Labels!A420","v":""},{"$f":"Labels!B420","v":""},null,{"$f":"Labels!D420","v":""},{"$f":"Labels!E420","v":""}]
[]
["Seller:",null,null,"Seller:"]
[{"$f":"Labels!A423","v":0},{"$f":"Labels!B423","v":0},null,{"$f":"Labels!D423","v":0},{"$f":"Labels!E423","v":0}]
["Visit www.circlecityaqclub.org for all your auction labels!",null,null,"Visit www.circlecityaqclub.org for all your auction labels!"]
[]
[{"$f":"Labels!A426","v":"BAG#"},{"$f":"Labels!B426","v":"-073"},null,{"$f":"Labels!D426","v":"BAG#"},{"$f":"Labels!E426","v":"-074"}]
[]
[{"$f":"Labels!A428","v":0},null,null,{"$f":"Labels!D428","v":0}]
[]
[]
[]
[{"$f":"Labels!A432","v":""},{"$f":"Labels!B432","v":""},null,{"$f":"Labels!D432","v":""},{"$f":"Labels!E432","v":""}]
[]
["Seller:",null,null,"Seller:"]
[{"$f":"Labels!A435","v":0},{"$f":"Labels!B435","v":0},null,{"$f":"Labels!D435","v":0},{"$f":"Labels!E435","v":0}]
["Visit www.circlecityaqclub.org for all your auction labels!",null,null,"Visit www.circlecityaqclub.org for all your auction labels!"]
[]
[{"$f":"Labels!A438","v":"BAG#"},{"$f":"Labels!B438","v":"-075"}]
[]
[{"$f":"Labels!A440","v":0}]
[]
[]
[]
[{"$f":"Labels!A444","v":""},{"$f":"Labels!B444","v":""}]
[]
["Seller:"]
[{"$f":"Labels!A447","v":0},{"$f":"Labels!B447","v":0}]
["Visit www.circlecityaqclub.org for all your auction labels!"]
[]
["PRINT ONLY FROM WHITE AREA ABOVE"]

{"sheet":"Scratch Paper","index":4,"n_rows":6,"n_cols":2,"rows_kept":6,"cut":false,"hidden":false,"merged":[[26,1,26,4],[2,1,2,7],[3,1,3,7],[4,1,4,7],[5,1,5,7],[20,1,20,4],[21,1,21,4],[22,1,22,4],[23,1,23,4],[24,1,24,4],[25,1,25,4]]}
[]
[]
[null,"Use this sheet to copy in your images and resize them. "]
[null,"Copy the resized images and paste them into the labels on the label sheet."]
[null,"Do not cover any important printed information.  By adding a "]
[null,"picture, you take responsibility for anything not visible on the label."]